BEGIN:VCALENDAR
VERSION:2.0
PRODID:-//FoBSP - Friends of Bude Sea Pool - ECPv6.0.4//NONSGML v1.0//EN
CALSCALE:GREGORIAN
METHOD:PUBLISH
X-ORIGINAL-URL:https://www.budeseapool.org
X-WR-CALDESC:Events for FoBSP - Friends of Bude Sea Pool
REFRESH-INTERVAL;VALUE=DURATION:PT1H
X-Robots-Tag:noindex
X-PUBLISHED-TTL:PT1H
BEGIN:VTIMEZONE
TZID:Europe/London
BEGIN:DAYLIGHT
TZOFFSETFROM:+0000
TZOFFSETTO:+0100
TZNAME:BST
DTSTART:20240331T010000
END:DAYLIGHT
BEGIN:STANDARD
TZOFFSETFROM:+0100
TZOFFSETTO:+0000
TZNAME:GMT
DTSTART:20241027T010000
END:STANDARD
BEGIN:DAYLIGHT
TZOFFSETFROM:+0000
TZOFFSETTO:+0100
TZNAME:BST
DTSTART:20250330T010000
END:DAYLIGHT
BEGIN:STANDARD
TZOFFSETFROM:+0100
TZOFFSETTO:+0000
TZNAME:GMT
DTSTART:20251026T010000
END:STANDARD
END:VTIMEZONE
BEGIN:VEVENT
DTSTART;TZID=Europe/London:20250413T150000
DTEND;TZID=Europe/London:20250413T160000
DTSTAMP:20260423T140138
CREATED:20250129T134422Z
LAST-MODIFIED:20250129T134422Z
UID:10001389-1744556400-1744560000@www.budeseapool.org
SUMMARY:Swim Technique Session - Breathing Techniques for Open Water
DESCRIPTION:When open water swimming\, using the right breathing techniques can make a world of difference in improving your experience so that you get the most out of your swim. While many people may not give it much thought\, consciously adjusting your breathing patterns while swimming in open water can have numerous benefits. One of the key advantages of breathing differently during open water swimming is that it can help you stay calm and relaxed in potentially challenging situations. By taking slow\, deep breaths\, you can regulate your heart rate and increase oxygen flow to your muscles\, enabling you to swim more efficiently and comfortably.
URL:https://www.budeseapool.org/event/swim-technique-session-breathing-techniques-for-open-water/
LOCATION:Bude Sea Pool\, Bude Sea Pool\, Bude\, EX23 8HN\, United Kingdom
CATEGORIES:Hub in Use
ORGANIZER;CN="Salty%20Swims":MAILTO:hello@saltyswims.com
GEO:50.832701786283;-4.5539932734708
X-APPLE-STRUCTURED-LOCATION;VALUE=URI;X-ADDRESS=Bude Sea Pool Bude Sea Pool Bude EX23 8HN United Kingdom;X-APPLE-RADIUS=500;X-TITLE=Bude Sea Pool:geo:-4.5539932734708,50.832701786283
END:VEVENT
BEGIN:VEVENT
DTSTART;TZID=Europe/London:20250309T150000
DTEND;TZID=Europe/London:20250309T160000
DTSTAMP:20260423T140138
CREATED:20241231T132455Z
LAST-MODIFIED:20250129T134022Z
UID:10001387-1741532400-1741536000@www.budeseapool.org
SUMMARY:Open Water Technique Session - Arms
DESCRIPTION:This session is for acclimatised open water swimmers who’d like to improve their freestyle swimming and need support with their technique.
URL:https://www.budeseapool.org/event/open-water-technique-session-3/
LOCATION:Bude Sea Pool\, Bude Sea Pool\, Bude\, EX23 8HN\, United Kingdom
CATEGORIES:Hub in Use
ORGANIZER;CN="Salty%20Swims":MAILTO:hello@saltyswims.com
GEO:50.832701786283;-4.5539932734708
X-APPLE-STRUCTURED-LOCATION;VALUE=URI;X-ADDRESS=Bude Sea Pool Bude Sea Pool Bude EX23 8HN United Kingdom;X-APPLE-RADIUS=500;X-TITLE=Bude Sea Pool:geo:-4.5539932734708,50.832701786283
END:VEVENT
BEGIN:VEVENT
DTSTART;TZID=Europe/London:20250309T130000
DTEND;TZID=Europe/London:20250309T143000
DTSTAMP:20260423T140138
CREATED:20250129T134226Z
LAST-MODIFIED:20250129T134226Z
UID:10001388-1741525200-1741530600@www.budeseapool.org
SUMMARY:Introduction to Winter Swimming
DESCRIPTION:This session is perfect for people who can swim\, but want to swim outdoors or for the first time. The emphasis of this swim is feeling comfortable in the water. We approach outdoor swimming safely and responsibly whilst exploring and enjoying the natural environment. We will teach you: • How to manage the cold • The Cold Water Shock Response • Dive Reflex • Swim Failure • How to avoid hypothermia • After Drop • Warming up • Equipment needed • Clothes to wear • Sea conditions – wind\, swell\, breakers\, rips
URL:https://www.budeseapool.org/event/introduction-to-winter-swimming-4/
LOCATION:Bude Sea Pool\, Bude Sea Pool\, Bude\, EX23 8HN\, United Kingdom
CATEGORIES:Hub in Use
ORGANIZER;CN="Salty%20Swims":MAILTO:hello@saltyswims.com
GEO:50.832701786283;-4.5539932734708
X-APPLE-STRUCTURED-LOCATION;VALUE=URI;X-ADDRESS=Bude Sea Pool Bude Sea Pool Bude EX23 8HN United Kingdom;X-APPLE-RADIUS=500;X-TITLE=Bude Sea Pool:geo:-4.5539932734708,50.832701786283
END:VEVENT
BEGIN:VEVENT
DTSTART;TZID=Europe/London:20250209T150000
DTEND;TZID=Europe/London:20250209T160000
DTSTAMP:20260423T140138
CREATED:20241231T132131Z
LAST-MODIFIED:20241231T132131Z
UID:10001386-1739113200-1739116800@www.budeseapool.org
SUMMARY:Open Water Technique Session
DESCRIPTION:Freestyle kick is an important part of having a strong and powerful freestyle stroke. Here are 4 reasons why freestyle kick will help improve your freestyle. • Creates the ideal body position Kicking while freestyling not only adds propulsion to your stroke\, making you swim faster and longer\, but it also helps create the ideal body position; high in the water\, long through the core and legs in line with your torso and arms. • Adds propulsion to your stroke By having a consistent freestyle flutter kick you help create more propulsion to get your body through the water. This propulsion helps to move you through the water faster and smoother and it also takes a lot of the load off your shoulders\, which helps reduce the onset of shoulder injuries. • Keeps your stroke balanced Kicking helps to keep your freestyle stroke balanced and together. A consistent kick will leave you looking smooth in the water; with long arms\, a high body position\, and a good breathing pattern. With just the right amount of kick\, it will also help with your endurance during those longer open-water swims. Freestyle kick helps to keep the stroke balanced • Complements your arm strokes Because freestyle kick helps to give you the ideal body position\, it also adds more power to your hip rotation. This helps to add more drive and propulsion to your arm stroke creating a more dynamic arm pull. In turn\, helping you swim faster and easier\, while also creating more upper-body strength.
URL:https://www.budeseapool.org/event/open-water-technique-session-2/
LOCATION:Bude Sea Pool\, Bude Sea Pool\, Bude\, EX23 8HN\, United Kingdom
CATEGORIES:Hub in Use
ORGANIZER;CN="Salty%20Swims":MAILTO:hello@saltyswims.com
GEO:50.832701786283;-4.5539932734708
X-APPLE-STRUCTURED-LOCATION;VALUE=URI;X-ADDRESS=Bude Sea Pool Bude Sea Pool Bude EX23 8HN United Kingdom;X-APPLE-RADIUS=500;X-TITLE=Bude Sea Pool:geo:-4.5539932734708,50.832701786283
END:VEVENT
BEGIN:VEVENT
DTSTART;TZID=Europe/London:20250209T130000
DTEND;TZID=Europe/London:20250209T143000
DTSTAMP:20260423T140138
CREATED:20241231T131814Z
LAST-MODIFIED:20241231T131814Z
UID:10001385-1739106000-1739111400@www.budeseapool.org
SUMMARY:Introduction to Winter Swimming
DESCRIPTION:This session is perfect for people who can swim\, but want to swim outdoors or for the first time. The emphasis of this swim is feeling comfortable in the water. We approach outdoor swimming safely and responsibly whilst exploring and enjoying the natural environment. We will teach you: • How to manage the cold • The Cold Water Shock Response • Dive Reflex • Swim Failure • How to avoid hypothermia • After Drop • Warming up • Equipment needed • Clothes to wear • Sea conditions – wind\, swell\, breakers\, rips
URL:https://www.budeseapool.org/event/introduction-to-winter-swimming-3/
LOCATION:Bude Sea Pool\, Bude Sea Pool\, Bude\, EX23 8HN\, United Kingdom
CATEGORIES:Hub in Use
ATTACH;FMTTYPE=image/jpeg:https://www.budeseapool.org/wp-content/uploads/464524347_978775440941802_6221640539043230388_n.jpg
ORGANIZER;CN="Salty%20Swims":MAILTO:hello@saltyswims.com
GEO:50.832701786283;-4.5539932734708
X-APPLE-STRUCTURED-LOCATION;VALUE=URI;X-ADDRESS=Bude Sea Pool Bude Sea Pool Bude EX23 8HN United Kingdom;X-APPLE-RADIUS=500;X-TITLE=Bude Sea Pool:geo:-4.5539932734708,50.832701786283
END:VEVENT
BEGIN:VEVENT
DTSTART;TZID=Europe/London:20250105T150000
DTEND;TZID=Europe/London:20250105T160000
DTSTAMP:20260423T140138
CREATED:20241231T131536Z
LAST-MODIFIED:20241231T131922Z
UID:10001384-1736089200-1736092800@www.budeseapool.org
SUMMARY:Open Water Technique Session
DESCRIPTION:Your freestyle pull produces most of your propulsion while you’re swimming\, but there are many things that can affect your technique and slow you down. The pull is your engine in freestyle. It’s responsible for most of the propulsion you create\, and it’s what helps you move forward and create speed. Although all the components of freestyle are important and required\, the pull is the most important when it comes to moving forward. It’s where most of the work is done. A great pull is simple. The goal is to create a large paddle with your whole arm and then use that paddle to push backward against the water and move yourself forward. There are two major components to the pull. The first is more of a set-up phase. After your arm enters the water\, it needs to be repositioned so that it faces backward\, ready to push against the water. Once it is\, then the second half of your pull begins: a strong and fast motion that pushes water backward and moves you forward. Executing both components is critical for a great pull.
URL:https://www.budeseapool.org/event/open-water-technique-session/
LOCATION:Bude Sea Pool\, Bude Sea Pool\, Bude\, EX23 8HN\, United Kingdom
CATEGORIES:Hub in Use
ATTACH;FMTTYPE=image/jpeg:https://www.budeseapool.org/wp-content/uploads/471677367_616867224043796_7944465542917561573_n.jpg
ORGANIZER;CN="Salty%20Swims":MAILTO:hello@saltyswims.com
GEO:50.832701786283;-4.5539932734708
X-APPLE-STRUCTURED-LOCATION;VALUE=URI;X-ADDRESS=Bude Sea Pool Bude Sea Pool Bude EX23 8HN United Kingdom;X-APPLE-RADIUS=500;X-TITLE=Bude Sea Pool:geo:-4.5539932734708,50.832701786283
END:VEVENT
BEGIN:VEVENT
DTSTART;TZID=Europe/London:20250105T130000
DTEND;TZID=Europe/London:20250105T143000
DTSTAMP:20260423T140138
CREATED:20241231T131223Z
LAST-MODIFIED:20241231T131852Z
UID:10001383-1736082000-1736087400@www.budeseapool.org
SUMMARY:Introduction to Winter Swimming
DESCRIPTION:This session is perfect for people who can swim\, but want to swim outdoors or for the first time. The emphasis of this swim is feeling comfortable in the water. We approach outdoor swimming safely and responsibly whilst exploring and enjoying the natural environment. We will teach you: • How to manage the cold • The Cold Water Shock Response • Dive Reflex • Swim Failure • How to avoid hypothermia • After Drop • Warming up • Equipment needed • Clothes to wear • Sea conditions – wind\, swell\, breakers\, rips
URL:https://www.budeseapool.org/event/introduction-to-winter-swimming-2/
LOCATION:Bude Sea Pool\, Bude Sea Pool\, Bude\, EX23 8HN\, United Kingdom
CATEGORIES:Hub in Use
ATTACH;FMTTYPE=image/jpeg:https://www.budeseapool.org/wp-content/uploads/471677367_616867224043796_7944465542917561573_n.jpg
ORGANIZER;CN="Salty%20Swims":MAILTO:hello@saltyswims.com
GEO:50.832701786283;-4.5539932734708
X-APPLE-STRUCTURED-LOCATION;VALUE=URI;X-ADDRESS=Bude Sea Pool Bude Sea Pool Bude EX23 8HN United Kingdom;X-APPLE-RADIUS=500;X-TITLE=Bude Sea Pool:geo:-4.5539932734708,50.832701786283
END:VEVENT
BEGIN:VEVENT
DTSTART;TZID=Europe/London:20241222T100000
DTEND;TZID=Europe/London:20241222T120000
DTSTAMP:20260423T140138
CREATED:20240212T181202Z
LAST-MODIFIED:20240212T181256Z
UID:10001236-1734861600-1734868800@www.budeseapool.org
SUMMARY:Open Hub
DESCRIPTION:The Hub is open for all members of the community to use to warm up after a dip in the Pool. It is not for changing\, which must happen outside. Donations to support Friends of Bude Sea Pool and for refreshments.
URL:https://www.budeseapool.org/event/open-hub-11/2024-12-22/
LOCATION:Bude Sea Pool Hub\, Bude\, Cornwall\, EX23 8HN\, United Kingdom
CATEGORIES:Hub in Use
END:VEVENT
BEGIN:VEVENT
DTSTART;TZID=Europe/London:20241221T100000
DTEND;TZID=Europe/London:20241221T120000
DTSTAMP:20260423T140138
CREATED:20240212T181202Z
LAST-MODIFIED:20240212T181256Z
UID:10001235-1734775200-1734782400@www.budeseapool.org
SUMMARY:Open Hub
DESCRIPTION:The Hub is open for all members of the community to use to warm up after a dip in the Pool. It is not for changing\, which must happen outside. Donations to support Friends of Bude Sea Pool and for refreshments.
URL:https://www.budeseapool.org/event/open-hub-11/2024-12-21/
LOCATION:Bude Sea Pool Hub\, Bude\, Cornwall\, EX23 8HN\, United Kingdom
CATEGORIES:Hub in Use
END:VEVENT
BEGIN:VEVENT
DTSTART;TZID=Europe/London:20241220T100000
DTEND;TZID=Europe/London:20241220T120000
DTSTAMP:20260423T140138
CREATED:20240212T181202Z
LAST-MODIFIED:20240212T181256Z
UID:10001234-1734688800-1734696000@www.budeseapool.org
SUMMARY:Open Hub
DESCRIPTION:The Hub is open for all members of the community to use to warm up after a dip in the Pool. It is not for changing\, which must happen outside. Donations to support Friends of Bude Sea Pool and for refreshments.
URL:https://www.budeseapool.org/event/open-hub-11/2024-12-20/
LOCATION:Bude Sea Pool Hub\, Bude\, Cornwall\, EX23 8HN\, United Kingdom
CATEGORIES:Hub in Use
END:VEVENT
BEGIN:VEVENT
DTSTART;TZID=Europe/London:20241219T100000
DTEND;TZID=Europe/London:20241219T120000
DTSTAMP:20260423T140138
CREATED:20240212T181202Z
LAST-MODIFIED:20240212T181256Z
UID:10001233-1734602400-1734609600@www.budeseapool.org
SUMMARY:Open Hub
DESCRIPTION:The Hub is open for all members of the community to use to warm up after a dip in the Pool. It is not for changing\, which must happen outside. Donations to support Friends of Bude Sea Pool and for refreshments.
URL:https://www.budeseapool.org/event/open-hub-11/2024-12-19/
LOCATION:Bude Sea Pool Hub\, Bude\, Cornwall\, EX23 8HN\, United Kingdom
CATEGORIES:Hub in Use
END:VEVENT
BEGIN:VEVENT
DTSTART;TZID=Europe/London:20241218T100000
DTEND;TZID=Europe/London:20241218T120000
DTSTAMP:20260423T140138
CREATED:20240212T181202Z
LAST-MODIFIED:20240212T181256Z
UID:10001232-1734516000-1734523200@www.budeseapool.org
SUMMARY:Open Hub
DESCRIPTION:The Hub is open for all members of the community to use to warm up after a dip in the Pool. It is not for changing\, which must happen outside. Donations to support Friends of Bude Sea Pool and for refreshments.
URL:https://www.budeseapool.org/event/open-hub-11/2024-12-18/
LOCATION:Bude Sea Pool Hub\, Bude\, Cornwall\, EX23 8HN\, United Kingdom
CATEGORIES:Hub in Use
END:VEVENT
BEGIN:VEVENT
DTSTART;TZID=Europe/London:20241217T100000
DTEND;TZID=Europe/London:20241217T120000
DTSTAMP:20260423T140138
CREATED:20240212T181202Z
LAST-MODIFIED:20240212T181256Z
UID:10001231-1734429600-1734436800@www.budeseapool.org
SUMMARY:Open Hub
DESCRIPTION:The Hub is open for all members of the community to use to warm up after a dip in the Pool. It is not for changing\, which must happen outside. Donations to support Friends of Bude Sea Pool and for refreshments.
URL:https://www.budeseapool.org/event/open-hub-11/2024-12-17/
LOCATION:Bude Sea Pool Hub\, Bude\, Cornwall\, EX23 8HN\, United Kingdom
CATEGORIES:Hub in Use
END:VEVENT
BEGIN:VEVENT
DTSTART;TZID=Europe/London:20241216T100000
DTEND;TZID=Europe/London:20241216T120000
DTSTAMP:20260423T140138
CREATED:20240212T181202Z
LAST-MODIFIED:20240212T181256Z
UID:10001230-1734343200-1734350400@www.budeseapool.org
SUMMARY:Open Hub
DESCRIPTION:The Hub is open for all members of the community to use to warm up after a dip in the Pool. It is not for changing\, which must happen outside. Donations to support Friends of Bude Sea Pool and for refreshments.
URL:https://www.budeseapool.org/event/open-hub-11/2024-12-16/
LOCATION:Bude Sea Pool Hub\, Bude\, Cornwall\, EX23 8HN\, United Kingdom
CATEGORIES:Hub in Use
END:VEVENT
BEGIN:VEVENT
DTSTART;TZID=Europe/London:20241215T100000
DTEND;TZID=Europe/London:20241215T120000
DTSTAMP:20260423T140138
CREATED:20240212T181202Z
LAST-MODIFIED:20240212T181256Z
UID:10001229-1734256800-1734264000@www.budeseapool.org
SUMMARY:Open Hub
DESCRIPTION:The Hub is open for all members of the community to use to warm up after a dip in the Pool. It is not for changing\, which must happen outside. Donations to support Friends of Bude Sea Pool and for refreshments.
URL:https://www.budeseapool.org/event/open-hub-11/2024-12-15/
LOCATION:Bude Sea Pool Hub\, Bude\, Cornwall\, EX23 8HN\, United Kingdom
CATEGORIES:Hub in Use
END:VEVENT
BEGIN:VEVENT
DTSTART;TZID=Europe/London:20241214T100000
DTEND;TZID=Europe/London:20241214T120000
DTSTAMP:20260423T140138
CREATED:20240212T181202Z
LAST-MODIFIED:20240212T181256Z
UID:10001228-1734170400-1734177600@www.budeseapool.org
SUMMARY:Open Hub
DESCRIPTION:The Hub is open for all members of the community to use to warm up after a dip in the Pool. It is not for changing\, which must happen outside. Donations to support Friends of Bude Sea Pool and for refreshments.
URL:https://www.budeseapool.org/event/open-hub-11/2024-12-14/
LOCATION:Bude Sea Pool Hub\, Bude\, Cornwall\, EX23 8HN\, United Kingdom
CATEGORIES:Hub in Use
END:VEVENT
BEGIN:VEVENT
DTSTART;TZID=Europe/London:20241213T100000
DTEND;TZID=Europe/London:20241213T120000
DTSTAMP:20260423T140138
CREATED:20240212T181202Z
LAST-MODIFIED:20240212T181256Z
UID:10001227-1734084000-1734091200@www.budeseapool.org
SUMMARY:Open Hub
DESCRIPTION:The Hub is open for all members of the community to use to warm up after a dip in the Pool. It is not for changing\, which must happen outside. Donations to support Friends of Bude Sea Pool and for refreshments.
URL:https://www.budeseapool.org/event/open-hub-11/2024-12-13/
LOCATION:Bude Sea Pool Hub\, Bude\, Cornwall\, EX23 8HN\, United Kingdom
CATEGORIES:Hub in Use
END:VEVENT
BEGIN:VEVENT
DTSTART;TZID=Europe/London:20241212T100000
DTEND;TZID=Europe/London:20241212T120000
DTSTAMP:20260423T140138
CREATED:20240212T181202Z
LAST-MODIFIED:20240212T181256Z
UID:10001226-1733997600-1734004800@www.budeseapool.org
SUMMARY:Open Hub
DESCRIPTION:The Hub is open for all members of the community to use to warm up after a dip in the Pool. It is not for changing\, which must happen outside. Donations to support Friends of Bude Sea Pool and for refreshments.
URL:https://www.budeseapool.org/event/open-hub-11/2024-12-12/
LOCATION:Bude Sea Pool Hub\, Bude\, Cornwall\, EX23 8HN\, United Kingdom
CATEGORIES:Hub in Use
END:VEVENT
BEGIN:VEVENT
DTSTART;TZID=Europe/London:20241211T100000
DTEND;TZID=Europe/London:20241211T120000
DTSTAMP:20260423T140138
CREATED:20240212T181202Z
LAST-MODIFIED:20240212T181256Z
UID:10001225-1733911200-1733918400@www.budeseapool.org
SUMMARY:Open Hub
DESCRIPTION:The Hub is open for all members of the community to use to warm up after a dip in the Pool. It is not for changing\, which must happen outside. Donations to support Friends of Bude Sea Pool and for refreshments.
URL:https://www.budeseapool.org/event/open-hub-11/2024-12-11/
LOCATION:Bude Sea Pool Hub\, Bude\, Cornwall\, EX23 8HN\, United Kingdom
CATEGORIES:Hub in Use
END:VEVENT
BEGIN:VEVENT
DTSTART;TZID=Europe/London:20241210T100000
DTEND;TZID=Europe/London:20241210T120000
DTSTAMP:20260423T140138
CREATED:20240212T181202Z
LAST-MODIFIED:20240212T181256Z
UID:10001224-1733824800-1733832000@www.budeseapool.org
SUMMARY:Open Hub
DESCRIPTION:The Hub is open for all members of the community to use to warm up after a dip in the Pool. It is not for changing\, which must happen outside. Donations to support Friends of Bude Sea Pool and for refreshments.
URL:https://www.budeseapool.org/event/open-hub-11/2024-12-10/
LOCATION:Bude Sea Pool Hub\, Bude\, Cornwall\, EX23 8HN\, United Kingdom
CATEGORIES:Hub in Use
END:VEVENT
BEGIN:VEVENT
DTSTART;TZID=Europe/London:20241209T100000
DTEND;TZID=Europe/London:20241209T120000
DTSTAMP:20260423T140138
CREATED:20240212T181202Z
LAST-MODIFIED:20240212T181256Z
UID:10001223-1733738400-1733745600@www.budeseapool.org
SUMMARY:Open Hub
DESCRIPTION:The Hub is open for all members of the community to use to warm up after a dip in the Pool. It is not for changing\, which must happen outside. Donations to support Friends of Bude Sea Pool and for refreshments.
URL:https://www.budeseapool.org/event/open-hub-11/2024-12-09/
LOCATION:Bude Sea Pool Hub\, Bude\, Cornwall\, EX23 8HN\, United Kingdom
CATEGORIES:Hub in Use
END:VEVENT
BEGIN:VEVENT
DTSTART;TZID=Europe/London:20241208T100000
DTEND;TZID=Europe/London:20241208T120000
DTSTAMP:20260423T140138
CREATED:20240212T181202Z
LAST-MODIFIED:20240212T181256Z
UID:10001222-1733652000-1733659200@www.budeseapool.org
SUMMARY:Open Hub
DESCRIPTION:The Hub is open for all members of the community to use to warm up after a dip in the Pool. It is not for changing\, which must happen outside. Donations to support Friends of Bude Sea Pool and for refreshments.
URL:https://www.budeseapool.org/event/open-hub-11/2024-12-08/
LOCATION:Bude Sea Pool Hub\, Bude\, Cornwall\, EX23 8HN\, United Kingdom
CATEGORIES:Hub in Use
END:VEVENT
BEGIN:VEVENT
DTSTART;TZID=Europe/London:20241207T100000
DTEND;TZID=Europe/London:20241207T120000
DTSTAMP:20260423T140138
CREATED:20240212T181202Z
LAST-MODIFIED:20240212T181256Z
UID:10001221-1733565600-1733572800@www.budeseapool.org
SUMMARY:Open Hub
DESCRIPTION:The Hub is open for all members of the community to use to warm up after a dip in the Pool. It is not for changing\, which must happen outside. Donations to support Friends of Bude Sea Pool and for refreshments.
URL:https://www.budeseapool.org/event/open-hub-11/2024-12-07/
LOCATION:Bude Sea Pool Hub\, Bude\, Cornwall\, EX23 8HN\, United Kingdom
CATEGORIES:Hub in Use
END:VEVENT
BEGIN:VEVENT
DTSTART;TZID=Europe/London:20241206T100000
DTEND;TZID=Europe/London:20241206T120000
DTSTAMP:20260423T140138
CREATED:20240212T181202Z
LAST-MODIFIED:20240212T181256Z
UID:10001220-1733479200-1733486400@www.budeseapool.org
SUMMARY:Open Hub
DESCRIPTION:The Hub is open for all members of the community to use to warm up after a dip in the Pool. It is not for changing\, which must happen outside. Donations to support Friends of Bude Sea Pool and for refreshments.
URL:https://www.budeseapool.org/event/open-hub-11/2024-12-06/
LOCATION:Bude Sea Pool Hub\, Bude\, Cornwall\, EX23 8HN\, United Kingdom
CATEGORIES:Hub in Use
END:VEVENT
BEGIN:VEVENT
DTSTART;TZID=Europe/London:20241205T100000
DTEND;TZID=Europe/London:20241205T120000
DTSTAMP:20260423T140138
CREATED:20240212T181202Z
LAST-MODIFIED:20240212T181256Z
UID:10001219-1733392800-1733400000@www.budeseapool.org
SUMMARY:Open Hub
DESCRIPTION:The Hub is open for all members of the community to use to warm up after a dip in the Pool. It is not for changing\, which must happen outside. Donations to support Friends of Bude Sea Pool and for refreshments.
URL:https://www.budeseapool.org/event/open-hub-11/2024-12-05/
LOCATION:Bude Sea Pool Hub\, Bude\, Cornwall\, EX23 8HN\, United Kingdom
CATEGORIES:Hub in Use
END:VEVENT
BEGIN:VEVENT
DTSTART;TZID=Europe/London:20241204T100000
DTEND;TZID=Europe/London:20241204T120000
DTSTAMP:20260423T140138
CREATED:20240212T181202Z
LAST-MODIFIED:20240212T181256Z
UID:10001218-1733306400-1733313600@www.budeseapool.org
SUMMARY:Open Hub
DESCRIPTION:The Hub is open for all members of the community to use to warm up after a dip in the Pool. It is not for changing\, which must happen outside. Donations to support Friends of Bude Sea Pool and for refreshments.
URL:https://www.budeseapool.org/event/open-hub-11/2024-12-04/
LOCATION:Bude Sea Pool Hub\, Bude\, Cornwall\, EX23 8HN\, United Kingdom
CATEGORIES:Hub in Use
END:VEVENT
BEGIN:VEVENT
DTSTART;TZID=Europe/London:20241203T100000
DTEND;TZID=Europe/London:20241203T120000
DTSTAMP:20260423T140138
CREATED:20240212T181202Z
LAST-MODIFIED:20240212T181256Z
UID:10001217-1733220000-1733227200@www.budeseapool.org
SUMMARY:Open Hub
DESCRIPTION:The Hub is open for all members of the community to use to warm up after a dip in the Pool. It is not for changing\, which must happen outside. Donations to support Friends of Bude Sea Pool and for refreshments.
URL:https://www.budeseapool.org/event/open-hub-11/2024-12-03/
LOCATION:Bude Sea Pool Hub\, Bude\, Cornwall\, EX23 8HN\, United Kingdom
CATEGORIES:Hub in Use
END:VEVENT
BEGIN:VEVENT
DTSTART;TZID=Europe/London:20241202T100000
DTEND;TZID=Europe/London:20241202T120000
DTSTAMP:20260423T140138
CREATED:20240212T181202Z
LAST-MODIFIED:20240212T181256Z
UID:10001216-1733133600-1733140800@www.budeseapool.org
SUMMARY:Open Hub
DESCRIPTION:The Hub is open for all members of the community to use to warm up after a dip in the Pool. It is not for changing\, which must happen outside. Donations to support Friends of Bude Sea Pool and for refreshments.
URL:https://www.budeseapool.org/event/open-hub-11/2024-12-02/
LOCATION:Bude Sea Pool Hub\, Bude\, Cornwall\, EX23 8HN\, United Kingdom
CATEGORIES:Hub in Use
END:VEVENT
BEGIN:VEVENT
DTSTART;TZID=Europe/London:20241201T100000
DTEND;TZID=Europe/London:20241201T120000
DTSTAMP:20260423T140138
CREATED:20240212T181202Z
LAST-MODIFIED:20240212T181256Z
UID:10001215-1733047200-1733054400@www.budeseapool.org
SUMMARY:Open Hub
DESCRIPTION:The Hub is open for all members of the community to use to warm up after a dip in the Pool. It is not for changing\, which must happen outside. Donations to support Friends of Bude Sea Pool and for refreshments.
URL:https://www.budeseapool.org/event/open-hub-11/2024-12-01/
LOCATION:Bude Sea Pool Hub\, Bude\, Cornwall\, EX23 8HN\, United Kingdom
CATEGORIES:Hub in Use
END:VEVENT
BEGIN:VEVENT
DTSTART;TZID=Europe/London:20241130T100000
DTEND;TZID=Europe/London:20241130T120000
DTSTAMP:20260423T140138
CREATED:20240212T181202Z
LAST-MODIFIED:20240212T181256Z
UID:10001214-1732960800-1732968000@www.budeseapool.org
SUMMARY:Open Hub
DESCRIPTION:The Hub is open for all members of the community to use to warm up after a dip in the Pool. It is not for changing\, which must happen outside. Donations to support Friends of Bude Sea Pool and for refreshments.
URL:https://www.budeseapool.org/event/open-hub-11/2024-11-30/
LOCATION:Bude Sea Pool Hub\, Bude\, Cornwall\, EX23 8HN\, United Kingdom
CATEGORIES:Hub in Use
END:VEVENT
END:VCALENDAR