BEGIN:VCALENDAR
VERSION:2.0
PRODID:-//FoBSP - Friends of Bude Sea Pool - ECPv6.0.4//NONSGML v1.0//EN
CALSCALE:GREGORIAN
METHOD:PUBLISH
X-WR-CALNAME:FoBSP - Friends of Bude Sea Pool
X-ORIGINAL-URL:https://www.budeseapool.org
X-WR-CALDESC:Events for FoBSP - Friends of Bude Sea Pool
REFRESH-INTERVAL;VALUE=DURATION:PT1H
X-Robots-Tag:noindex
X-PUBLISHED-TTL:PT1H
BEGIN:VTIMEZONE
TZID:Europe/London
BEGIN:DAYLIGHT
TZOFFSETFROM:+0000
TZOFFSETTO:+0100
TZNAME:BST
DTSTART:20230326T010000
END:DAYLIGHT
BEGIN:STANDARD
TZOFFSETFROM:+0100
TZOFFSETTO:+0000
TZNAME:GMT
DTSTART:20231029T010000
END:STANDARD
BEGIN:DAYLIGHT
TZOFFSETFROM:+0000
TZOFFSETTO:+0100
TZNAME:BST
DTSTART:20240331T010000
END:DAYLIGHT
BEGIN:STANDARD
TZOFFSETFROM:+0100
TZOFFSETTO:+0000
TZNAME:GMT
DTSTART:20241027T010000
END:STANDARD
END:VTIMEZONE
BEGIN:VEVENT
DTSTART;TZID=Europe/London:20241201T100000
DTEND;TZID=Europe/London:20241201T120000
DTSTAMP:20260425T155644
CREATED:20240212T182606Z
LAST-MODIFIED:20240212T182705Z
UID:10001246-1733047200-1733054400@www.budeseapool.org
SUMMARY:BOWS (Bude Open Water Swimmers) Monthly Swim
DESCRIPTION:BOWS (Bude Open Water Swimmers) monthly swim meet
URL:https://www.budeseapool.org/event/bows-bude-open-water-swimmers-monthly-swim/2024-12-01/
LOCATION:Bude Sea Pool\, Bude Sea Pool\, Bude\, EX23 8HN\, United Kingdom
CATEGORIES:Pool in Use
GEO:50.832701786283;-4.5539932734708
X-APPLE-STRUCTURED-LOCATION;VALUE=URI;X-ADDRESS=Bude Sea Pool Bude Sea Pool Bude EX23 8HN United Kingdom;X-APPLE-RADIUS=500;X-TITLE=Bude Sea Pool:geo:-4.5539932734708,50.832701786283
END:VEVENT
BEGIN:VEVENT
DTSTART;TZID=Europe/London:20241103T100000
DTEND;TZID=Europe/London:20241103T120000
DTSTAMP:20260425T155644
CREATED:20240212T182606Z
LAST-MODIFIED:20240212T182705Z
UID:10001245-1730628000-1730635200@www.budeseapool.org
SUMMARY:BOWS (Bude Open Water Swimmers) Monthly Swim
DESCRIPTION:BOWS (Bude Open Water Swimmers) monthly swim meet
URL:https://www.budeseapool.org/event/bows-bude-open-water-swimmers-monthly-swim/2024-11-03/
LOCATION:Bude Sea Pool\, Bude Sea Pool\, Bude\, EX23 8HN\, United Kingdom
CATEGORIES:Pool in Use
GEO:50.832701786283;-4.5539932734708
X-APPLE-STRUCTURED-LOCATION;VALUE=URI;X-ADDRESS=Bude Sea Pool Bude Sea Pool Bude EX23 8HN United Kingdom;X-APPLE-RADIUS=500;X-TITLE=Bude Sea Pool:geo:-4.5539932734708,50.832701786283
END:VEVENT
BEGIN:VEVENT
DTSTART;TZID=Europe/London:20240303T100000
DTEND;TZID=Europe/London:20240303T120000
DTSTAMP:20260425T155644
CREATED:20240212T182606Z
LAST-MODIFIED:20240212T182705Z
UID:10001244-1709460000-1709467200@www.budeseapool.org
SUMMARY:BOWS (Bude Open Water Swimmers) Monthly Swim
DESCRIPTION:BOWS (Bude Open Water Swimmers) monthly swim meet
URL:https://www.budeseapool.org/event/bows-bude-open-water-swimmers-monthly-swim/2024-03-03/
LOCATION:Bude Sea Pool\, Bude Sea Pool\, Bude\, EX23 8HN\, United Kingdom
CATEGORIES:Pool in Use
GEO:50.832701786283;-4.5539932734708
X-APPLE-STRUCTURED-LOCATION;VALUE=URI;X-ADDRESS=Bude Sea Pool Bude Sea Pool Bude EX23 8HN United Kingdom;X-APPLE-RADIUS=500;X-TITLE=Bude Sea Pool:geo:-4.5539932734708,50.832701786283
END:VEVENT
BEGIN:VEVENT
DTSTART;TZID=Europe/London:20230402T100000
DTEND;TZID=Europe/London:20230402T120000
DTSTAMP:20260425T155644
CREATED:20230314T191505Z
LAST-MODIFIED:20230314T191505Z
UID:10000072-1680429600-1680436800@www.budeseapool.org
SUMMARY:BOWS Celebration - End of the Winter Swim Season
DESCRIPTION:
URL:https://www.budeseapool.org/event/bows-celebration-end-of-the-winter-swim-season/
LOCATION:Bude Sea Pool Hub\, Bude\, Cornwall\, EX23 8HN\, United Kingdom
CATEGORIES:Hub in Use,Pool in Use
END:VEVENT
END:VCALENDAR