BEGIN:VCALENDAR
VERSION:2.0
PRODID:-//FoBSP - Friends of Bude Sea Pool - ECPv6.0.4//NONSGML v1.0//EN
CALSCALE:GREGORIAN
METHOD:PUBLISH
X-WR-CALNAME:FoBSP - Friends of Bude Sea Pool
X-ORIGINAL-URL:https://www.budeseapool.org
X-WR-CALDESC:Events for FoBSP - Friends of Bude Sea Pool
REFRESH-INTERVAL;VALUE=DURATION:PT1H
X-Robots-Tag:noindex
X-PUBLISHED-TTL:PT1H
BEGIN:VTIMEZONE
TZID:Europe/London
BEGIN:DAYLIGHT
TZOFFSETFROM:+0000
TZOFFSETTO:+0100
TZNAME:BST
DTSTART:20240331T010000
END:DAYLIGHT
BEGIN:STANDARD
TZOFFSETFROM:+0100
TZOFFSETTO:+0000
TZNAME:GMT
DTSTART:20241027T010000
END:STANDARD
END:VTIMEZONE
BEGIN:VEVENT
DTSTART;TZID=Europe/London:20240805T080000
DTEND;TZID=Europe/London:20240805T093000
DTSTAMP:20260424T032217
CREATED:20240529T172836Z
LAST-MODIFIED:20240529T173553Z
UID:10001321-1722844800-1722850200@www.budeseapool.org
SUMMARY:Open Hub
DESCRIPTION:The Hub is open for all members of the community to use to warm up after a dip in the Pool. It is not for changing\, which must happen outside. Donations to support Friends of Bude Sea Pool and for refreshments.
URL:https://www.budeseapool.org/event/open-hub-10-6/2024-08-05/
LOCATION:Bude Sea Pool Hub\, Bude\, Cornwall\, EX23 8HN\, United Kingdom
CATEGORIES:Hub in Use
END:VEVENT
BEGIN:VEVENT
DTSTART;TZID=Europe/London:20240804T080000
DTEND;TZID=Europe/London:20240804T093000
DTSTAMP:20260424T032217
CREATED:20240529T172836Z
LAST-MODIFIED:20240529T173553Z
UID:10001320-1722758400-1722763800@www.budeseapool.org
SUMMARY:Open Hub
DESCRIPTION:The Hub is open for all members of the community to use to warm up after a dip in the Pool. It is not for changing\, which must happen outside. Donations to support Friends of Bude Sea Pool and for refreshments.
URL:https://www.budeseapool.org/event/open-hub-10-6/2024-08-04/
LOCATION:Bude Sea Pool Hub\, Bude\, Cornwall\, EX23 8HN\, United Kingdom
CATEGORIES:Hub in Use
END:VEVENT
BEGIN:VEVENT
DTSTART;TZID=Europe/London:20240803T080000
DTEND;TZID=Europe/London:20240803T093000
DTSTAMP:20260424T032217
CREATED:20240529T172836Z
LAST-MODIFIED:20240529T173553Z
UID:10001319-1722672000-1722677400@www.budeseapool.org
SUMMARY:Open Hub
DESCRIPTION:The Hub is open for all members of the community to use to warm up after a dip in the Pool. It is not for changing\, which must happen outside. Donations to support Friends of Bude Sea Pool and for refreshments.
URL:https://www.budeseapool.org/event/open-hub-10-6/2024-08-03/
LOCATION:Bude Sea Pool Hub\, Bude\, Cornwall\, EX23 8HN\, United Kingdom
CATEGORIES:Hub in Use
END:VEVENT
BEGIN:VEVENT
DTSTART;TZID=Europe/London:20240802T080000
DTEND;TZID=Europe/London:20240802T093000
DTSTAMP:20260424T032217
CREATED:20240529T172836Z
LAST-MODIFIED:20240529T173553Z
UID:10001318-1722585600-1722591000@www.budeseapool.org
SUMMARY:Open Hub
DESCRIPTION:The Hub is open for all members of the community to use to warm up after a dip in the Pool. It is not for changing\, which must happen outside. Donations to support Friends of Bude Sea Pool and for refreshments.
URL:https://www.budeseapool.org/event/open-hub-10-6/2024-08-02/
LOCATION:Bude Sea Pool Hub\, Bude\, Cornwall\, EX23 8HN\, United Kingdom
CATEGORIES:Hub in Use
END:VEVENT
BEGIN:VEVENT
DTSTART;TZID=Europe/London:20240801T080000
DTEND;TZID=Europe/London:20240801T093000
DTSTAMP:20260424T032217
CREATED:20240529T172836Z
LAST-MODIFIED:20240529T173553Z
UID:10001317-1722499200-1722504600@www.budeseapool.org
SUMMARY:Open Hub
DESCRIPTION:The Hub is open for all members of the community to use to warm up after a dip in the Pool. It is not for changing\, which must happen outside. Donations to support Friends of Bude Sea Pool and for refreshments.
URL:https://www.budeseapool.org/event/open-hub-10-6/2024-08-01/
LOCATION:Bude Sea Pool Hub\, Bude\, Cornwall\, EX23 8HN\, United Kingdom
CATEGORIES:Hub in Use
END:VEVENT
BEGIN:VEVENT
DTSTART;TZID=Europe/London:20240731T080000
DTEND;TZID=Europe/London:20240731T093000
DTSTAMP:20260424T032217
CREATED:20240529T172836Z
LAST-MODIFIED:20240529T173553Z
UID:10001316-1722412800-1722418200@www.budeseapool.org
SUMMARY:Open Hub
DESCRIPTION:The Hub is open for all members of the community to use to warm up after a dip in the Pool. It is not for changing\, which must happen outside. Donations to support Friends of Bude Sea Pool and for refreshments.
URL:https://www.budeseapool.org/event/open-hub-10-6/2024-07-31/
LOCATION:Bude Sea Pool Hub\, Bude\, Cornwall\, EX23 8HN\, United Kingdom
CATEGORIES:Hub in Use
END:VEVENT
BEGIN:VEVENT
DTSTART;TZID=Europe/London:20240730T080000
DTEND;TZID=Europe/London:20240730T093000
DTSTAMP:20260424T032217
CREATED:20240529T172836Z
LAST-MODIFIED:20240529T173553Z
UID:10001315-1722326400-1722331800@www.budeseapool.org
SUMMARY:Open Hub
DESCRIPTION:The Hub is open for all members of the community to use to warm up after a dip in the Pool. It is not for changing\, which must happen outside. Donations to support Friends of Bude Sea Pool and for refreshments.
URL:https://www.budeseapool.org/event/open-hub-10-6/2024-07-30/
LOCATION:Bude Sea Pool Hub\, Bude\, Cornwall\, EX23 8HN\, United Kingdom
CATEGORIES:Hub in Use
END:VEVENT
BEGIN:VEVENT
DTSTART;TZID=Europe/London:20240729T080000
DTEND;TZID=Europe/London:20240729T093000
DTSTAMP:20260424T032217
CREATED:20240529T172836Z
LAST-MODIFIED:20240529T173553Z
UID:10001314-1722240000-1722245400@www.budeseapool.org
SUMMARY:Open Hub
DESCRIPTION:The Hub is open for all members of the community to use to warm up after a dip in the Pool. It is not for changing\, which must happen outside. Donations to support Friends of Bude Sea Pool and for refreshments.
URL:https://www.budeseapool.org/event/open-hub-10-6/2024-07-29/
LOCATION:Bude Sea Pool Hub\, Bude\, Cornwall\, EX23 8HN\, United Kingdom
CATEGORIES:Hub in Use
END:VEVENT
BEGIN:VEVENT
DTSTART;TZID=Europe/London:20240728T080000
DTEND;TZID=Europe/London:20240728T093000
DTSTAMP:20260424T032217
CREATED:20240529T172836Z
LAST-MODIFIED:20240529T173553Z
UID:10001313-1722153600-1722159000@www.budeseapool.org
SUMMARY:Open Hub
DESCRIPTION:The Hub is open for all members of the community to use to warm up after a dip in the Pool. It is not for changing\, which must happen outside. Donations to support Friends of Bude Sea Pool and for refreshments.
URL:https://www.budeseapool.org/event/open-hub-10-6/2024-07-28/
LOCATION:Bude Sea Pool Hub\, Bude\, Cornwall\, EX23 8HN\, United Kingdom
CATEGORIES:Hub in Use
END:VEVENT
BEGIN:VEVENT
DTSTART;TZID=Europe/London:20240727T080000
DTEND;TZID=Europe/London:20240727T093000
DTSTAMP:20260424T032217
CREATED:20240529T172836Z
LAST-MODIFIED:20240529T173553Z
UID:10001312-1722067200-1722072600@www.budeseapool.org
SUMMARY:Open Hub
DESCRIPTION:The Hub is open for all members of the community to use to warm up after a dip in the Pool. It is not for changing\, which must happen outside. Donations to support Friends of Bude Sea Pool and for refreshments.
URL:https://www.budeseapool.org/event/open-hub-10-6/2024-07-27/
LOCATION:Bude Sea Pool Hub\, Bude\, Cornwall\, EX23 8HN\, United Kingdom
CATEGORIES:Hub in Use
END:VEVENT
BEGIN:VEVENT
DTSTART;TZID=Europe/London:20240726T080000
DTEND;TZID=Europe/London:20240726T093000
DTSTAMP:20260424T032217
CREATED:20240529T172836Z
LAST-MODIFIED:20240529T173553Z
UID:10001311-1721980800-1721986200@www.budeseapool.org
SUMMARY:Open Hub
DESCRIPTION:The Hub is open for all members of the community to use to warm up after a dip in the Pool. It is not for changing\, which must happen outside. Donations to support Friends of Bude Sea Pool and for refreshments.
URL:https://www.budeseapool.org/event/open-hub-10-6/2024-07-26/
LOCATION:Bude Sea Pool Hub\, Bude\, Cornwall\, EX23 8HN\, United Kingdom
CATEGORIES:Hub in Use
END:VEVENT
BEGIN:VEVENT
DTSTART;TZID=Europe/London:20240725T080000
DTEND;TZID=Europe/London:20240725T093000
DTSTAMP:20260424T032217
CREATED:20240529T172836Z
LAST-MODIFIED:20240529T173553Z
UID:10001310-1721894400-1721899800@www.budeseapool.org
SUMMARY:Open Hub
DESCRIPTION:The Hub is open for all members of the community to use to warm up after a dip in the Pool. It is not for changing\, which must happen outside. Donations to support Friends of Bude Sea Pool and for refreshments.
URL:https://www.budeseapool.org/event/open-hub-10-6/2024-07-25/
LOCATION:Bude Sea Pool Hub\, Bude\, Cornwall\, EX23 8HN\, United Kingdom
CATEGORIES:Hub in Use
END:VEVENT
BEGIN:VEVENT
DTSTART;TZID=Europe/London:20240724T080000
DTEND;TZID=Europe/London:20240724T093000
DTSTAMP:20260424T032217
CREATED:20240529T172836Z
LAST-MODIFIED:20240529T173553Z
UID:10001309-1721808000-1721813400@www.budeseapool.org
SUMMARY:Open Hub
DESCRIPTION:The Hub is open for all members of the community to use to warm up after a dip in the Pool. It is not for changing\, which must happen outside. Donations to support Friends of Bude Sea Pool and for refreshments.
URL:https://www.budeseapool.org/event/open-hub-10-6/2024-07-24/
LOCATION:Bude Sea Pool Hub\, Bude\, Cornwall\, EX23 8HN\, United Kingdom
CATEGORIES:Hub in Use
END:VEVENT
BEGIN:VEVENT
DTSTART;TZID=Europe/London:20240723T080000
DTEND;TZID=Europe/London:20240723T093000
DTSTAMP:20260424T032217
CREATED:20240529T172836Z
LAST-MODIFIED:20240529T173553Z
UID:10001308-1721721600-1721727000@www.budeseapool.org
SUMMARY:Open Hub
DESCRIPTION:The Hub is open for all members of the community to use to warm up after a dip in the Pool. It is not for changing\, which must happen outside. Donations to support Friends of Bude Sea Pool and for refreshments.
URL:https://www.budeseapool.org/event/open-hub-10-6/2024-07-23/
LOCATION:Bude Sea Pool Hub\, Bude\, Cornwall\, EX23 8HN\, United Kingdom
CATEGORIES:Hub in Use
END:VEVENT
BEGIN:VEVENT
DTSTART;TZID=Europe/London:20240722T080000
DTEND;TZID=Europe/London:20240722T093000
DTSTAMP:20260424T032217
CREATED:20240529T172836Z
LAST-MODIFIED:20240529T173553Z
UID:10001307-1721635200-1721640600@www.budeseapool.org
SUMMARY:Open Hub
DESCRIPTION:The Hub is open for all members of the community to use to warm up after a dip in the Pool. It is not for changing\, which must happen outside. Donations to support Friends of Bude Sea Pool and for refreshments.
URL:https://www.budeseapool.org/event/open-hub-10-6/2024-07-22/
LOCATION:Bude Sea Pool Hub\, Bude\, Cornwall\, EX23 8HN\, United Kingdom
CATEGORIES:Hub in Use
END:VEVENT
BEGIN:VEVENT
DTSTART;TZID=Europe/London:20240721T080000
DTEND;TZID=Europe/London:20240721T093000
DTSTAMP:20260424T032217
CREATED:20240529T172836Z
LAST-MODIFIED:20240529T173553Z
UID:10001306-1721548800-1721554200@www.budeseapool.org
SUMMARY:Open Hub
DESCRIPTION:The Hub is open for all members of the community to use to warm up after a dip in the Pool. It is not for changing\, which must happen outside. Donations to support Friends of Bude Sea Pool and for refreshments.
URL:https://www.budeseapool.org/event/open-hub-10-6/2024-07-21/
LOCATION:Bude Sea Pool Hub\, Bude\, Cornwall\, EX23 8HN\, United Kingdom
CATEGORIES:Hub in Use
END:VEVENT
BEGIN:VEVENT
DTSTART;TZID=Europe/London:20240720T080000
DTEND;TZID=Europe/London:20240720T093000
DTSTAMP:20260424T032217
CREATED:20240529T172836Z
LAST-MODIFIED:20240529T173553Z
UID:10001305-1721462400-1721467800@www.budeseapool.org
SUMMARY:Open Hub
DESCRIPTION:The Hub is open for all members of the community to use to warm up after a dip in the Pool. It is not for changing\, which must happen outside. Donations to support Friends of Bude Sea Pool and for refreshments.
URL:https://www.budeseapool.org/event/open-hub-10-6/2024-07-20/
LOCATION:Bude Sea Pool Hub\, Bude\, Cornwall\, EX23 8HN\, United Kingdom
CATEGORIES:Hub in Use
END:VEVENT
BEGIN:VEVENT
DTSTART;TZID=Europe/London:20240719T080000
DTEND;TZID=Europe/London:20240719T093000
DTSTAMP:20260424T032217
CREATED:20240529T172836Z
LAST-MODIFIED:20240529T173553Z
UID:10001304-1721376000-1721381400@www.budeseapool.org
SUMMARY:Open Hub
DESCRIPTION:The Hub is open for all members of the community to use to warm up after a dip in the Pool. It is not for changing\, which must happen outside. Donations to support Friends of Bude Sea Pool and for refreshments.
URL:https://www.budeseapool.org/event/open-hub-10-6/2024-07-19/
LOCATION:Bude Sea Pool Hub\, Bude\, Cornwall\, EX23 8HN\, United Kingdom
CATEGORIES:Hub in Use
END:VEVENT
BEGIN:VEVENT
DTSTART;TZID=Europe/London:20240718T080000
DTEND;TZID=Europe/London:20240718T093000
DTSTAMP:20260424T032217
CREATED:20240529T172836Z
LAST-MODIFIED:20240529T173553Z
UID:10001303-1721289600-1721295000@www.budeseapool.org
SUMMARY:Open Hub
DESCRIPTION:The Hub is open for all members of the community to use to warm up after a dip in the Pool. It is not for changing\, which must happen outside. Donations to support Friends of Bude Sea Pool and for refreshments.
URL:https://www.budeseapool.org/event/open-hub-10-6/2024-07-18/
LOCATION:Bude Sea Pool Hub\, Bude\, Cornwall\, EX23 8HN\, United Kingdom
CATEGORIES:Hub in Use
END:VEVENT
BEGIN:VEVENT
DTSTART;TZID=Europe/London:20240717T080000
DTEND;TZID=Europe/London:20240717T093000
DTSTAMP:20260424T032217
CREATED:20240529T172836Z
LAST-MODIFIED:20240529T173553Z
UID:10001302-1721203200-1721208600@www.budeseapool.org
SUMMARY:Open Hub
DESCRIPTION:The Hub is open for all members of the community to use to warm up after a dip in the Pool. It is not for changing\, which must happen outside. Donations to support Friends of Bude Sea Pool and for refreshments.
URL:https://www.budeseapool.org/event/open-hub-10-6/2024-07-17/
LOCATION:Bude Sea Pool Hub\, Bude\, Cornwall\, EX23 8HN\, United Kingdom
CATEGORIES:Hub in Use
END:VEVENT
BEGIN:VEVENT
DTSTART;TZID=Europe/London:20240716T080000
DTEND;TZID=Europe/London:20240716T093000
DTSTAMP:20260424T032217
CREATED:20240529T172836Z
LAST-MODIFIED:20240529T173553Z
UID:10001301-1721116800-1721122200@www.budeseapool.org
SUMMARY:Open Hub
DESCRIPTION:The Hub is open for all members of the community to use to warm up after a dip in the Pool. It is not for changing\, which must happen outside. Donations to support Friends of Bude Sea Pool and for refreshments.
URL:https://www.budeseapool.org/event/open-hub-10-6/2024-07-16/
LOCATION:Bude Sea Pool Hub\, Bude\, Cornwall\, EX23 8HN\, United Kingdom
CATEGORIES:Hub in Use
END:VEVENT
BEGIN:VEVENT
DTSTART;TZID=Europe/London:20240715T080000
DTEND;TZID=Europe/London:20240715T093000
DTSTAMP:20260424T032217
CREATED:20240529T172836Z
LAST-MODIFIED:20240529T173553Z
UID:10001300-1721030400-1721035800@www.budeseapool.org
SUMMARY:Open Hub
DESCRIPTION:The Hub is open for all members of the community to use to warm up after a dip in the Pool. It is not for changing\, which must happen outside. Donations to support Friends of Bude Sea Pool and for refreshments.
URL:https://www.budeseapool.org/event/open-hub-10-6/2024-07-15/
LOCATION:Bude Sea Pool Hub\, Bude\, Cornwall\, EX23 8HN\, United Kingdom
CATEGORIES:Hub in Use
END:VEVENT
BEGIN:VEVENT
DTSTART;TZID=Europe/London:20240714T080000
DTEND;TZID=Europe/London:20240714T093000
DTSTAMP:20260424T032217
CREATED:20240529T172836Z
LAST-MODIFIED:20240529T173553Z
UID:10001299-1720944000-1720949400@www.budeseapool.org
SUMMARY:Open Hub
DESCRIPTION:The Hub is open for all members of the community to use to warm up after a dip in the Pool. It is not for changing\, which must happen outside. Donations to support Friends of Bude Sea Pool and for refreshments.
URL:https://www.budeseapool.org/event/open-hub-10-6/2024-07-14/
LOCATION:Bude Sea Pool Hub\, Bude\, Cornwall\, EX23 8HN\, United Kingdom
CATEGORIES:Hub in Use
END:VEVENT
BEGIN:VEVENT
DTSTART;TZID=Europe/London:20240713T080000
DTEND;TZID=Europe/London:20240713T093000
DTSTAMP:20260424T032217
CREATED:20240529T172836Z
LAST-MODIFIED:20240529T173553Z
UID:10001298-1720857600-1720863000@www.budeseapool.org
SUMMARY:Open Hub
DESCRIPTION:The Hub is open for all members of the community to use to warm up after a dip in the Pool. It is not for changing\, which must happen outside. Donations to support Friends of Bude Sea Pool and for refreshments.
URL:https://www.budeseapool.org/event/open-hub-10-6/2024-07-13/
LOCATION:Bude Sea Pool Hub\, Bude\, Cornwall\, EX23 8HN\, United Kingdom
CATEGORIES:Hub in Use
END:VEVENT
BEGIN:VEVENT
DTSTART;TZID=Europe/London:20240712T080000
DTEND;TZID=Europe/London:20240712T093000
DTSTAMP:20260424T032217
CREATED:20240529T172836Z
LAST-MODIFIED:20240529T173553Z
UID:10001297-1720771200-1720776600@www.budeseapool.org
SUMMARY:Open Hub
DESCRIPTION:The Hub is open for all members of the community to use to warm up after a dip in the Pool. It is not for changing\, which must happen outside. Donations to support Friends of Bude Sea Pool and for refreshments.
URL:https://www.budeseapool.org/event/open-hub-10-6/2024-07-12/
LOCATION:Bude Sea Pool Hub\, Bude\, Cornwall\, EX23 8HN\, United Kingdom
CATEGORIES:Hub in Use
END:VEVENT
BEGIN:VEVENT
DTSTART;TZID=Europe/London:20240711T080000
DTEND;TZID=Europe/London:20240711T093000
DTSTAMP:20260424T032217
CREATED:20240529T172836Z
LAST-MODIFIED:20240529T173553Z
UID:10001296-1720684800-1720690200@www.budeseapool.org
SUMMARY:Open Hub
DESCRIPTION:The Hub is open for all members of the community to use to warm up after a dip in the Pool. It is not for changing\, which must happen outside. Donations to support Friends of Bude Sea Pool and for refreshments.
URL:https://www.budeseapool.org/event/open-hub-10-6/2024-07-11/
LOCATION:Bude Sea Pool Hub\, Bude\, Cornwall\, EX23 8HN\, United Kingdom
CATEGORIES:Hub in Use
END:VEVENT
BEGIN:VEVENT
DTSTART;TZID=Europe/London:20240710T080000
DTEND;TZID=Europe/London:20240710T093000
DTSTAMP:20260424T032217
CREATED:20240529T172836Z
LAST-MODIFIED:20240529T173553Z
UID:10001295-1720598400-1720603800@www.budeseapool.org
SUMMARY:Open Hub
DESCRIPTION:The Hub is open for all members of the community to use to warm up after a dip in the Pool. It is not for changing\, which must happen outside. Donations to support Friends of Bude Sea Pool and for refreshments.
URL:https://www.budeseapool.org/event/open-hub-10-6/2024-07-10/
LOCATION:Bude Sea Pool Hub\, Bude\, Cornwall\, EX23 8HN\, United Kingdom
CATEGORIES:Hub in Use
END:VEVENT
BEGIN:VEVENT
DTSTART;TZID=Europe/London:20240709T080000
DTEND;TZID=Europe/London:20240709T093000
DTSTAMP:20260424T032217
CREATED:20240529T172836Z
LAST-MODIFIED:20240529T173553Z
UID:10001294-1720512000-1720517400@www.budeseapool.org
SUMMARY:Open Hub
DESCRIPTION:The Hub is open for all members of the community to use to warm up after a dip in the Pool. It is not for changing\, which must happen outside. Donations to support Friends of Bude Sea Pool and for refreshments.
URL:https://www.budeseapool.org/event/open-hub-10-6/2024-07-09/
LOCATION:Bude Sea Pool Hub\, Bude\, Cornwall\, EX23 8HN\, United Kingdom
CATEGORIES:Hub in Use
END:VEVENT
BEGIN:VEVENT
DTSTART;TZID=Europe/London:20240708T080000
DTEND;TZID=Europe/London:20240708T093000
DTSTAMP:20260424T032217
CREATED:20240529T172836Z
LAST-MODIFIED:20240529T173553Z
UID:10001293-1720425600-1720431000@www.budeseapool.org
SUMMARY:Open Hub
DESCRIPTION:The Hub is open for all members of the community to use to warm up after a dip in the Pool. It is not for changing\, which must happen outside. Donations to support Friends of Bude Sea Pool and for refreshments.
URL:https://www.budeseapool.org/event/open-hub-10-6/2024-07-08/
LOCATION:Bude Sea Pool Hub\, Bude\, Cornwall\, EX23 8HN\, United Kingdom
CATEGORIES:Hub in Use
END:VEVENT
BEGIN:VEVENT
DTSTART;TZID=Europe/London:20240707T110000
DTEND;TZID=Europe/London:20240707T140000
DTSTAMP:20260424T032217
CREATED:20240701T083109Z
LAST-MODIFIED:20240701T083109Z
UID:10001377-1720350000-1720360800@www.budeseapool.org
SUMMARY:Teddy Bears Picnic
DESCRIPTION:Come and join in the fun. \nCream Tea’s\, cakes and refreshments available in the Hub. \nBest Dressed Teddy competition \nTeddy Parade \nScavenger Hunt \nPebble Hunt \nMusic \nPaddleboard activities in the Pool with Rob McPaddling \n  \nSee you at the Pool with your teddy!
URL:https://www.budeseapool.org/event/teddy-bears-picnic/
LOCATION:Bude Sea Pool\, Bude Sea Pool\, Bude\, EX23 8HN\, United Kingdom
CATEGORIES:Public Events at the Pool
ATTACH;FMTTYPE=image/png:https://www.budeseapool.org/wp-content/uploads/Teddy-Bears-Picnic_INSTA.png
GEO:50.832701786283;-4.5539932734708
X-APPLE-STRUCTURED-LOCATION;VALUE=URI;X-ADDRESS=Bude Sea Pool Bude Sea Pool Bude EX23 8HN United Kingdom;X-APPLE-RADIUS=500;X-TITLE=Bude Sea Pool:geo:-4.5539932734708,50.832701786283
END:VEVENT
END:VCALENDAR