BEGIN:VCALENDAR
VERSION:2.0
PRODID:-//FoBSP - Friends of Bude Sea Pool - ECPv6.0.4//NONSGML v1.0//EN
CALSCALE:GREGORIAN
METHOD:PUBLISH
X-ORIGINAL-URL:https://www.budeseapool.org
X-WR-CALDESC:Events for FoBSP - Friends of Bude Sea Pool
REFRESH-INTERVAL;VALUE=DURATION:PT1H
X-Robots-Tag:noindex
X-PUBLISHED-TTL:PT1H
BEGIN:VTIMEZONE
TZID:Europe/London
BEGIN:DAYLIGHT
TZOFFSETFROM:+0000
TZOFFSETTO:+0100
TZNAME:BST
DTSTART:20240331T010000
END:DAYLIGHT
BEGIN:STANDARD
TZOFFSETFROM:+0100
TZOFFSETTO:+0000
TZNAME:GMT
DTSTART:20241027T010000
END:STANDARD
END:VTIMEZONE
BEGIN:VEVENT
DTSTART;TZID=Europe/London:20240701T080000
DTEND;TZID=Europe/London:20240701T093000
DTSTAMP:20260424T074215
CREATED:20240529T172836Z
LAST-MODIFIED:20240529T173553Z
UID:10001286-1719820800-1719826200@www.budeseapool.org
SUMMARY:Open Hub
DESCRIPTION:The Hub is open for all members of the community to use to warm up after a dip in the Pool. It is not for changing\, which must happen outside. Donations to support Friends of Bude Sea Pool and for refreshments.
URL:https://www.budeseapool.org/event/open-hub-10-6/2024-07-01/
LOCATION:Bude Sea Pool Hub\, Bude\, Cornwall\, EX23 8HN\, United Kingdom
CATEGORIES:Hub in Use
END:VEVENT
BEGIN:VEVENT
DTSTART;TZID=Europe/London:20240630T080000
DTEND;TZID=Europe/London:20240630T093000
DTSTAMP:20260424T074215
CREATED:20240529T172836Z
LAST-MODIFIED:20240529T173553Z
UID:10001285-1719734400-1719739800@www.budeseapool.org
SUMMARY:Open Hub
DESCRIPTION:The Hub is open for all members of the community to use to warm up after a dip in the Pool. It is not for changing\, which must happen outside. Donations to support Friends of Bude Sea Pool and for refreshments.
URL:https://www.budeseapool.org/event/open-hub-10-6/2024-06-30/
LOCATION:Bude Sea Pool Hub\, Bude\, Cornwall\, EX23 8HN\, United Kingdom
CATEGORIES:Hub in Use
END:VEVENT
BEGIN:VEVENT
DTSTART;TZID=Europe/London:20240629T080000
DTEND;TZID=Europe/London:20240629T093000
DTSTAMP:20260424T074215
CREATED:20240529T172836Z
LAST-MODIFIED:20240529T173553Z
UID:10001284-1719648000-1719653400@www.budeseapool.org
SUMMARY:Open Hub
DESCRIPTION:The Hub is open for all members of the community to use to warm up after a dip in the Pool. It is not for changing\, which must happen outside. Donations to support Friends of Bude Sea Pool and for refreshments.
URL:https://www.budeseapool.org/event/open-hub-10-6/2024-06-29/
LOCATION:Bude Sea Pool Hub\, Bude\, Cornwall\, EX23 8HN\, United Kingdom
CATEGORIES:Hub in Use
END:VEVENT
BEGIN:VEVENT
DTSTART;TZID=Europe/London:20240628T080000
DTEND;TZID=Europe/London:20240628T093000
DTSTAMP:20260424T074215
CREATED:20240529T172836Z
LAST-MODIFIED:20240529T173553Z
UID:10001283-1719561600-1719567000@www.budeseapool.org
SUMMARY:Open Hub
DESCRIPTION:The Hub is open for all members of the community to use to warm up after a dip in the Pool. It is not for changing\, which must happen outside. Donations to support Friends of Bude Sea Pool and for refreshments.
URL:https://www.budeseapool.org/event/open-hub-10-6/2024-06-28/
LOCATION:Bude Sea Pool Hub\, Bude\, Cornwall\, EX23 8HN\, United Kingdom
CATEGORIES:Hub in Use
END:VEVENT
BEGIN:VEVENT
DTSTART;TZID=Europe/London:20240627T080000
DTEND;TZID=Europe/London:20240627T093000
DTSTAMP:20260424T074215
CREATED:20240529T172836Z
LAST-MODIFIED:20240529T173553Z
UID:10001282-1719475200-1719480600@www.budeseapool.org
SUMMARY:Open Hub
DESCRIPTION:The Hub is open for all members of the community to use to warm up after a dip in the Pool. It is not for changing\, which must happen outside. Donations to support Friends of Bude Sea Pool and for refreshments.
URL:https://www.budeseapool.org/event/open-hub-10-6/2024-06-27/
LOCATION:Bude Sea Pool Hub\, Bude\, Cornwall\, EX23 8HN\, United Kingdom
CATEGORIES:Hub in Use
END:VEVENT
BEGIN:VEVENT
DTSTART;TZID=Europe/London:20240626T080000
DTEND;TZID=Europe/London:20240626T093000
DTSTAMP:20260424T074215
CREATED:20240529T172836Z
LAST-MODIFIED:20240529T173553Z
UID:10001281-1719388800-1719394200@www.budeseapool.org
SUMMARY:Open Hub
DESCRIPTION:The Hub is open for all members of the community to use to warm up after a dip in the Pool. It is not for changing\, which must happen outside. Donations to support Friends of Bude Sea Pool and for refreshments.
URL:https://www.budeseapool.org/event/open-hub-10-6/2024-06-26/
LOCATION:Bude Sea Pool Hub\, Bude\, Cornwall\, EX23 8HN\, United Kingdom
CATEGORIES:Hub in Use
END:VEVENT
BEGIN:VEVENT
DTSTART;TZID=Europe/London:20240625T080000
DTEND;TZID=Europe/London:20240625T093000
DTSTAMP:20260424T074215
CREATED:20240529T172836Z
LAST-MODIFIED:20240529T173553Z
UID:10001280-1719302400-1719307800@www.budeseapool.org
SUMMARY:Open Hub
DESCRIPTION:The Hub is open for all members of the community to use to warm up after a dip in the Pool. It is not for changing\, which must happen outside. Donations to support Friends of Bude Sea Pool and for refreshments.
URL:https://www.budeseapool.org/event/open-hub-10-6/2024-06-25/
LOCATION:Bude Sea Pool Hub\, Bude\, Cornwall\, EX23 8HN\, United Kingdom
CATEGORIES:Hub in Use
END:VEVENT
BEGIN:VEVENT
DTSTART;TZID=Europe/London:20240624T080000
DTEND;TZID=Europe/London:20240624T093000
DTSTAMP:20260424T074215
CREATED:20240529T172836Z
LAST-MODIFIED:20240529T173553Z
UID:10001279-1719216000-1719221400@www.budeseapool.org
SUMMARY:Open Hub
DESCRIPTION:The Hub is open for all members of the community to use to warm up after a dip in the Pool. It is not for changing\, which must happen outside. Donations to support Friends of Bude Sea Pool and for refreshments.
URL:https://www.budeseapool.org/event/open-hub-10-6/2024-06-24/
LOCATION:Bude Sea Pool Hub\, Bude\, Cornwall\, EX23 8HN\, United Kingdom
CATEGORIES:Hub in Use
END:VEVENT
BEGIN:VEVENT
DTSTART;TZID=Europe/London:20240623T080000
DTEND;TZID=Europe/London:20240623T093000
DTSTAMP:20260424T074215
CREATED:20240529T172836Z
LAST-MODIFIED:20240529T173553Z
UID:10001278-1719129600-1719135000@www.budeseapool.org
SUMMARY:Open Hub
DESCRIPTION:The Hub is open for all members of the community to use to warm up after a dip in the Pool. It is not for changing\, which must happen outside. Donations to support Friends of Bude Sea Pool and for refreshments.
URL:https://www.budeseapool.org/event/open-hub-10-6/2024-06-23/
LOCATION:Bude Sea Pool Hub\, Bude\, Cornwall\, EX23 8HN\, United Kingdom
CATEGORIES:Hub in Use
END:VEVENT
BEGIN:VEVENT
DTSTART;TZID=Europe/London:20240622T080000
DTEND;TZID=Europe/London:20240622T093000
DTSTAMP:20260424T074215
CREATED:20240529T172836Z
LAST-MODIFIED:20240529T173553Z
UID:10001277-1719043200-1719048600@www.budeseapool.org
SUMMARY:Open Hub
DESCRIPTION:The Hub is open for all members of the community to use to warm up after a dip in the Pool. It is not for changing\, which must happen outside. Donations to support Friends of Bude Sea Pool and for refreshments.
URL:https://www.budeseapool.org/event/open-hub-10-6/2024-06-22/
LOCATION:Bude Sea Pool Hub\, Bude\, Cornwall\, EX23 8HN\, United Kingdom
CATEGORIES:Hub in Use
END:VEVENT
BEGIN:VEVENT
DTSTART;TZID=Europe/London:20240621T080000
DTEND;TZID=Europe/London:20240621T093000
DTSTAMP:20260424T074215
CREATED:20240529T172836Z
LAST-MODIFIED:20240529T173553Z
UID:10001276-1718956800-1718962200@www.budeseapool.org
SUMMARY:Open Hub
DESCRIPTION:The Hub is open for all members of the community to use to warm up after a dip in the Pool. It is not for changing\, which must happen outside. Donations to support Friends of Bude Sea Pool and for refreshments.
URL:https://www.budeseapool.org/event/open-hub-10-6/2024-06-21/
LOCATION:Bude Sea Pool Hub\, Bude\, Cornwall\, EX23 8HN\, United Kingdom
CATEGORIES:Hub in Use
END:VEVENT
BEGIN:VEVENT
DTSTART;TZID=Europe/London:20240620T080000
DTEND;TZID=Europe/London:20240620T093000
DTSTAMP:20260424T074215
CREATED:20240529T172836Z
LAST-MODIFIED:20240529T173553Z
UID:10001275-1718870400-1718875800@www.budeseapool.org
SUMMARY:Open Hub
DESCRIPTION:The Hub is open for all members of the community to use to warm up after a dip in the Pool. It is not for changing\, which must happen outside. Donations to support Friends of Bude Sea Pool and for refreshments.
URL:https://www.budeseapool.org/event/open-hub-10-6/2024-06-20/
LOCATION:Bude Sea Pool Hub\, Bude\, Cornwall\, EX23 8HN\, United Kingdom
CATEGORIES:Hub in Use
END:VEVENT
BEGIN:VEVENT
DTSTART;TZID=Europe/London:20240619T080000
DTEND;TZID=Europe/London:20240619T093000
DTSTAMP:20260424T074215
CREATED:20240529T172836Z
LAST-MODIFIED:20240529T173553Z
UID:10001274-1718784000-1718789400@www.budeseapool.org
SUMMARY:Open Hub
DESCRIPTION:The Hub is open for all members of the community to use to warm up after a dip in the Pool. It is not for changing\, which must happen outside. Donations to support Friends of Bude Sea Pool and for refreshments.
URL:https://www.budeseapool.org/event/open-hub-10-6/2024-06-19/
LOCATION:Bude Sea Pool Hub\, Bude\, Cornwall\, EX23 8HN\, United Kingdom
CATEGORIES:Hub in Use
END:VEVENT
BEGIN:VEVENT
DTSTART;TZID=Europe/London:20240618T080000
DTEND;TZID=Europe/London:20240618T093000
DTSTAMP:20260424T074215
CREATED:20240529T172836Z
LAST-MODIFIED:20240529T173553Z
UID:10001273-1718697600-1718703000@www.budeseapool.org
SUMMARY:Open Hub
DESCRIPTION:The Hub is open for all members of the community to use to warm up after a dip in the Pool. It is not for changing\, which must happen outside. Donations to support Friends of Bude Sea Pool and for refreshments.
URL:https://www.budeseapool.org/event/open-hub-10-6/2024-06-18/
LOCATION:Bude Sea Pool Hub\, Bude\, Cornwall\, EX23 8HN\, United Kingdom
CATEGORIES:Hub in Use
END:VEVENT
BEGIN:VEVENT
DTSTART;TZID=Europe/London:20240617T080000
DTEND;TZID=Europe/London:20240617T093000
DTSTAMP:20260424T074215
CREATED:20240529T172836Z
LAST-MODIFIED:20240529T173553Z
UID:10001272-1718611200-1718616600@www.budeseapool.org
SUMMARY:Open Hub
DESCRIPTION:The Hub is open for all members of the community to use to warm up after a dip in the Pool. It is not for changing\, which must happen outside. Donations to support Friends of Bude Sea Pool and for refreshments.
URL:https://www.budeseapool.org/event/open-hub-10-6/2024-06-17/
LOCATION:Bude Sea Pool Hub\, Bude\, Cornwall\, EX23 8HN\, United Kingdom
CATEGORIES:Hub in Use
END:VEVENT
BEGIN:VEVENT
DTSTART;TZID=Europe/London:20240616T080000
DTEND;TZID=Europe/London:20240616T093000
DTSTAMP:20260424T074215
CREATED:20240529T172836Z
LAST-MODIFIED:20240529T173553Z
UID:10001271-1718524800-1718530200@www.budeseapool.org
SUMMARY:Open Hub
DESCRIPTION:The Hub is open for all members of the community to use to warm up after a dip in the Pool. It is not for changing\, which must happen outside. Donations to support Friends of Bude Sea Pool and for refreshments.
URL:https://www.budeseapool.org/event/open-hub-10-6/2024-06-16/
LOCATION:Bude Sea Pool Hub\, Bude\, Cornwall\, EX23 8HN\, United Kingdom
CATEGORIES:Hub in Use
END:VEVENT
BEGIN:VEVENT
DTSTART;TZID=Europe/London:20240615T080000
DTEND;TZID=Europe/London:20240615T093000
DTSTAMP:20260424T074215
CREATED:20240529T172836Z
LAST-MODIFIED:20240529T173553Z
UID:10001270-1718438400-1718443800@www.budeseapool.org
SUMMARY:Open Hub
DESCRIPTION:The Hub is open for all members of the community to use to warm up after a dip in the Pool. It is not for changing\, which must happen outside. Donations to support Friends of Bude Sea Pool and for refreshments.
URL:https://www.budeseapool.org/event/open-hub-10-6/2024-06-15/
LOCATION:Bude Sea Pool Hub\, Bude\, Cornwall\, EX23 8HN\, United Kingdom
CATEGORIES:Hub in Use
END:VEVENT
BEGIN:VEVENT
DTSTART;TZID=Europe/London:20240614T080000
DTEND;TZID=Europe/London:20240614T093000
DTSTAMP:20260424T074215
CREATED:20240529T172836Z
LAST-MODIFIED:20240529T173553Z
UID:10001269-1718352000-1718357400@www.budeseapool.org
SUMMARY:Open Hub
DESCRIPTION:The Hub is open for all members of the community to use to warm up after a dip in the Pool. It is not for changing\, which must happen outside. Donations to support Friends of Bude Sea Pool and for refreshments.
URL:https://www.budeseapool.org/event/open-hub-10-6/2024-06-14/
LOCATION:Bude Sea Pool Hub\, Bude\, Cornwall\, EX23 8HN\, United Kingdom
CATEGORIES:Hub in Use
END:VEVENT
BEGIN:VEVENT
DTSTART;TZID=Europe/London:20240613T080000
DTEND;TZID=Europe/London:20240613T093000
DTSTAMP:20260424T074215
CREATED:20240529T172836Z
LAST-MODIFIED:20240529T173553Z
UID:10001268-1718265600-1718271000@www.budeseapool.org
SUMMARY:Open Hub
DESCRIPTION:The Hub is open for all members of the community to use to warm up after a dip in the Pool. It is not for changing\, which must happen outside. Donations to support Friends of Bude Sea Pool and for refreshments.
URL:https://www.budeseapool.org/event/open-hub-10-6/2024-06-13/
LOCATION:Bude Sea Pool Hub\, Bude\, Cornwall\, EX23 8HN\, United Kingdom
CATEGORIES:Hub in Use
END:VEVENT
BEGIN:VEVENT
DTSTART;TZID=Europe/London:20240612T080000
DTEND;TZID=Europe/London:20240612T093000
DTSTAMP:20260424T074215
CREATED:20240529T172836Z
LAST-MODIFIED:20240529T173553Z
UID:10001267-1718179200-1718184600@www.budeseapool.org
SUMMARY:Open Hub
DESCRIPTION:The Hub is open for all members of the community to use to warm up after a dip in the Pool. It is not for changing\, which must happen outside. Donations to support Friends of Bude Sea Pool and for refreshments.
URL:https://www.budeseapool.org/event/open-hub-10-6/2024-06-12/
LOCATION:Bude Sea Pool Hub\, Bude\, Cornwall\, EX23 8HN\, United Kingdom
CATEGORIES:Hub in Use
END:VEVENT
BEGIN:VEVENT
DTSTART;TZID=Europe/London:20240611T080000
DTEND;TZID=Europe/London:20240611T093000
DTSTAMP:20260424T074215
CREATED:20240529T172836Z
LAST-MODIFIED:20240529T173553Z
UID:10001266-1718092800-1718098200@www.budeseapool.org
SUMMARY:Open Hub
DESCRIPTION:The Hub is open for all members of the community to use to warm up after a dip in the Pool. It is not for changing\, which must happen outside. Donations to support Friends of Bude Sea Pool and for refreshments.
URL:https://www.budeseapool.org/event/open-hub-10-6/2024-06-11/
LOCATION:Bude Sea Pool Hub\, Bude\, Cornwall\, EX23 8HN\, United Kingdom
CATEGORIES:Hub in Use
END:VEVENT
BEGIN:VEVENT
DTSTART;TZID=Europe/London:20240609T080000
DTEND;TZID=Europe/London:20240609T093000
DTSTAMP:20260424T074215
CREATED:20240529T172836Z
LAST-MODIFIED:20240529T173553Z
UID:10001264-1717920000-1717925400@www.budeseapool.org
SUMMARY:Open Hub
DESCRIPTION:The Hub is open for all members of the community to use to warm up after a dip in the Pool. It is not for changing\, which must happen outside. Donations to support Friends of Bude Sea Pool and for refreshments.
URL:https://www.budeseapool.org/event/open-hub-10-6/2024-06-09/
LOCATION:Bude Sea Pool Hub\, Bude\, Cornwall\, EX23 8HN\, United Kingdom
CATEGORIES:Hub in Use
END:VEVENT
BEGIN:VEVENT
DTSTART;TZID=Europe/London:20240608T080000
DTEND;TZID=Europe/London:20240608T093000
DTSTAMP:20260424T074215
CREATED:20240529T172836Z
LAST-MODIFIED:20240529T173553Z
UID:10001263-1717833600-1717839000@www.budeseapool.org
SUMMARY:Open Hub
DESCRIPTION:The Hub is open for all members of the community to use to warm up after a dip in the Pool. It is not for changing\, which must happen outside. Donations to support Friends of Bude Sea Pool and for refreshments.
URL:https://www.budeseapool.org/event/open-hub-10-6/2024-06-08/
LOCATION:Bude Sea Pool Hub\, Bude\, Cornwall\, EX23 8HN\, United Kingdom
CATEGORIES:Hub in Use
END:VEVENT
BEGIN:VEVENT
DTSTART;TZID=Europe/London:20240607T080000
DTEND;TZID=Europe/London:20240607T093000
DTSTAMP:20260424T074215
CREATED:20240529T172836Z
LAST-MODIFIED:20240529T173553Z
UID:10001262-1717747200-1717752600@www.budeseapool.org
SUMMARY:Open Hub
DESCRIPTION:The Hub is open for all members of the community to use to warm up after a dip in the Pool. It is not for changing\, which must happen outside. Donations to support Friends of Bude Sea Pool and for refreshments.
URL:https://www.budeseapool.org/event/open-hub-10-6/2024-06-07/
LOCATION:Bude Sea Pool Hub\, Bude\, Cornwall\, EX23 8HN\, United Kingdom
CATEGORIES:Hub in Use
END:VEVENT
BEGIN:VEVENT
DTSTART;TZID=Europe/London:20240606T080000
DTEND;TZID=Europe/London:20240606T093000
DTSTAMP:20260424T074215
CREATED:20240529T172836Z
LAST-MODIFIED:20240529T173553Z
UID:10001261-1717660800-1717666200@www.budeseapool.org
SUMMARY:Open Hub
DESCRIPTION:The Hub is open for all members of the community to use to warm up after a dip in the Pool. It is not for changing\, which must happen outside. Donations to support Friends of Bude Sea Pool and for refreshments.
URL:https://www.budeseapool.org/event/open-hub-10-6/2024-06-06/
LOCATION:Bude Sea Pool Hub\, Bude\, Cornwall\, EX23 8HN\, United Kingdom
CATEGORIES:Hub in Use
END:VEVENT
BEGIN:VEVENT
DTSTART;TZID=Europe/London:20240605T080000
DTEND;TZID=Europe/London:20240605T093000
DTSTAMP:20260424T074215
CREATED:20240529T172836Z
LAST-MODIFIED:20240529T173553Z
UID:10001260-1717574400-1717579800@www.budeseapool.org
SUMMARY:Open Hub
DESCRIPTION:The Hub is open for all members of the community to use to warm up after a dip in the Pool. It is not for changing\, which must happen outside. Donations to support Friends of Bude Sea Pool and for refreshments.
URL:https://www.budeseapool.org/event/open-hub-10-6/2024-06-05/
LOCATION:Bude Sea Pool Hub\, Bude\, Cornwall\, EX23 8HN\, United Kingdom
CATEGORIES:Hub in Use
END:VEVENT
BEGIN:VEVENT
DTSTART;TZID=Europe/London:20240604T080000
DTEND;TZID=Europe/London:20240604T093000
DTSTAMP:20260424T074215
CREATED:20240529T172836Z
LAST-MODIFIED:20240529T173553Z
UID:10001026-1717488000-1717493400@www.budeseapool.org
SUMMARY:Open Hub
DESCRIPTION:The Hub is open for all members of the community to use to warm up after a dip in the Pool. It is not for changing\, which must happen outside. Donations to support Friends of Bude Sea Pool and for refreshments.
URL:https://www.budeseapool.org/event/open-hub-10-6/2024-06-04/
LOCATION:Bude Sea Pool Hub\, Bude\, Cornwall\, EX23 8HN\, United Kingdom
CATEGORIES:Hub in Use
END:VEVENT
BEGIN:VEVENT
DTSTART;TZID=Europe/London:20240602T120000
DTEND;TZID=Europe/London:20240602T160000
DTSTAMP:20260424T074215
CREATED:20240205T111913Z
LAST-MODIFIED:20240520T140354Z
UID:10000607-1717329600-1717344000@www.budeseapool.org
SUMMARY:Big Lunch
DESCRIPTION:Come and join the community for our annual Big Lunch. \nWe have food from Polmorla Pasties\, cream teas from our Volunteer bakers plus drinks\, cakes and snacks in our Hub. \nWe have music performances throughout the afternoon from a variety of musical acts. \n  \n  \n 
URL:https://www.budeseapool.org/event/big-lunch/
LOCATION:Bude Sea Pool\, Bude Sea Pool\, Bude\, EX23 8HN\, United Kingdom
CATEGORIES:Public Events at the Pool
ATTACH;FMTTYPE=image/png:https://www.budeseapool.org/wp-content/uploads/Big-Lunch_2024_INSTA-1.png
GEO:50.832701786283;-4.5539932734708
X-APPLE-STRUCTURED-LOCATION;VALUE=URI;X-ADDRESS=Bude Sea Pool Bude Sea Pool Bude EX23 8HN United Kingdom;X-APPLE-RADIUS=500;X-TITLE=Bude Sea Pool:geo:-4.5539932734708,50.832701786283
END:VEVENT
BEGIN:VEVENT
DTSTART;TZID=Europe/London:20240602T080000
DTEND;TZID=Europe/London:20240602T093000
DTSTAMP:20260424T074215
CREATED:20240529T172519Z
LAST-MODIFIED:20240529T172519Z
UID:10001024-1717315200-1717320600@www.budeseapool.org
SUMMARY:Open Hub
DESCRIPTION:The Hub is open for all members of the community to use to warm up after a dip in the Pool. It is not for changing\, which must happen outside. Donations to support Friends of Bude Sea Pool and for refreshments.
URL:https://www.budeseapool.org/event/open-hub-10-5/
LOCATION:Bude Sea Pool Hub\, Bude\, Cornwall\, EX23 8HN\, United Kingdom
CATEGORIES:Hub in Use
END:VEVENT
BEGIN:VEVENT
DTSTART;TZID=Europe/London:20240601T080000
DTEND;TZID=Europe/London:20240601T093000
DTSTAMP:20260424T074215
CREATED:20240529T172447Z
LAST-MODIFIED:20240529T172447Z
UID:10001023-1717228800-1717234200@www.budeseapool.org
SUMMARY:Open Hub
DESCRIPTION:The Hub is open for all members of the community to use to warm up after a dip in the Pool. It is not for changing\, which must happen outside. Donations to support Friends of Bude Sea Pool and for refreshments.
URL:https://www.budeseapool.org/event/open-hub-10-4/
LOCATION:Bude Sea Pool Hub\, Bude\, Cornwall\, EX23 8HN\, United Kingdom
CATEGORIES:Hub in Use
END:VEVENT
END:VCALENDAR