BEGIN:VCALENDAR
VERSION:2.0
PRODID:-//FoBSP - Friends of Bude Sea Pool - ECPv6.0.4//NONSGML v1.0//EN
CALSCALE:GREGORIAN
METHOD:PUBLISH
X-ORIGINAL-URL:https://www.budeseapool.org
X-WR-CALDESC:Events for FoBSP - Friends of Bude Sea Pool
REFRESH-INTERVAL;VALUE=DURATION:PT1H
X-Robots-Tag:noindex
X-PUBLISHED-TTL:PT1H
BEGIN:VTIMEZONE
TZID:Europe/London
BEGIN:DAYLIGHT
TZOFFSETFROM:+0000
TZOFFSETTO:+0100
TZNAME:BST
DTSTART:20240331T010000
END:DAYLIGHT
BEGIN:STANDARD
TZOFFSETFROM:+0100
TZOFFSETTO:+0000
TZNAME:GMT
DTSTART:20241027T010000
END:STANDARD
END:VTIMEZONE
BEGIN:VEVENT
DTSTART;TZID=Europe/London:20240606T080000
DTEND;TZID=Europe/London:20240606T093000
DTSTAMP:20260424T102635
CREATED:20240529T172836Z
LAST-MODIFIED:20240529T173553Z
UID:10001261-1717660800-1717666200@www.budeseapool.org
SUMMARY:Open Hub
DESCRIPTION:The Hub is open for all members of the community to use to warm up after a dip in the Pool. It is not for changing\, which must happen outside. Donations to support Friends of Bude Sea Pool and for refreshments.
URL:https://www.budeseapool.org/event/open-hub-10-6/2024-06-06/
LOCATION:Bude Sea Pool Hub\, Bude\, Cornwall\, EX23 8HN\, United Kingdom
CATEGORIES:Hub in Use
END:VEVENT
BEGIN:VEVENT
DTSTART;TZID=Europe/London:20240605T080000
DTEND;TZID=Europe/London:20240605T093000
DTSTAMP:20260424T102635
CREATED:20240529T172836Z
LAST-MODIFIED:20240529T173553Z
UID:10001260-1717574400-1717579800@www.budeseapool.org
SUMMARY:Open Hub
DESCRIPTION:The Hub is open for all members of the community to use to warm up after a dip in the Pool. It is not for changing\, which must happen outside. Donations to support Friends of Bude Sea Pool and for refreshments.
URL:https://www.budeseapool.org/event/open-hub-10-6/2024-06-05/
LOCATION:Bude Sea Pool Hub\, Bude\, Cornwall\, EX23 8HN\, United Kingdom
CATEGORIES:Hub in Use
END:VEVENT
BEGIN:VEVENT
DTSTART;TZID=Europe/London:20240604T080000
DTEND;TZID=Europe/London:20240604T093000
DTSTAMP:20260424T102635
CREATED:20240529T172836Z
LAST-MODIFIED:20240529T173553Z
UID:10001026-1717488000-1717493400@www.budeseapool.org
SUMMARY:Open Hub
DESCRIPTION:The Hub is open for all members of the community to use to warm up after a dip in the Pool. It is not for changing\, which must happen outside. Donations to support Friends of Bude Sea Pool and for refreshments.
URL:https://www.budeseapool.org/event/open-hub-10-6/2024-06-04/
LOCATION:Bude Sea Pool Hub\, Bude\, Cornwall\, EX23 8HN\, United Kingdom
CATEGORIES:Hub in Use
END:VEVENT
BEGIN:VEVENT
DTSTART;TZID=Europe/London:20240602T120000
DTEND;TZID=Europe/London:20240602T160000
DTSTAMP:20260424T102635
CREATED:20240205T111913Z
LAST-MODIFIED:20240520T140354Z
UID:10000607-1717329600-1717344000@www.budeseapool.org
SUMMARY:Big Lunch
DESCRIPTION:Come and join the community for our annual Big Lunch. \nWe have food from Polmorla Pasties\, cream teas from our Volunteer bakers plus drinks\, cakes and snacks in our Hub. \nWe have music performances throughout the afternoon from a variety of musical acts. \n  \n  \n 
URL:https://www.budeseapool.org/event/big-lunch/
LOCATION:Bude Sea Pool\, Bude Sea Pool\, Bude\, EX23 8HN\, United Kingdom
CATEGORIES:Public Events at the Pool
ATTACH;FMTTYPE=image/png:https://www.budeseapool.org/wp-content/uploads/Big-Lunch_2024_INSTA-1.png
GEO:50.832701786283;-4.5539932734708
X-APPLE-STRUCTURED-LOCATION;VALUE=URI;X-ADDRESS=Bude Sea Pool Bude Sea Pool Bude EX23 8HN United Kingdom;X-APPLE-RADIUS=500;X-TITLE=Bude Sea Pool:geo:-4.5539932734708,50.832701786283
END:VEVENT
BEGIN:VEVENT
DTSTART;TZID=Europe/London:20240602T080000
DTEND;TZID=Europe/London:20240602T093000
DTSTAMP:20260424T102635
CREATED:20240529T172519Z
LAST-MODIFIED:20240529T172519Z
UID:10001024-1717315200-1717320600@www.budeseapool.org
SUMMARY:Open Hub
DESCRIPTION:The Hub is open for all members of the community to use to warm up after a dip in the Pool. It is not for changing\, which must happen outside. Donations to support Friends of Bude Sea Pool and for refreshments.
URL:https://www.budeseapool.org/event/open-hub-10-5/
LOCATION:Bude Sea Pool Hub\, Bude\, Cornwall\, EX23 8HN\, United Kingdom
CATEGORIES:Hub in Use
END:VEVENT
BEGIN:VEVENT
DTSTART;TZID=Europe/London:20240601T080000
DTEND;TZID=Europe/London:20240601T093000
DTSTAMP:20260424T102635
CREATED:20240529T172447Z
LAST-MODIFIED:20240529T172447Z
UID:10001023-1717228800-1717234200@www.budeseapool.org
SUMMARY:Open Hub
DESCRIPTION:The Hub is open for all members of the community to use to warm up after a dip in the Pool. It is not for changing\, which must happen outside. Donations to support Friends of Bude Sea Pool and for refreshments.
URL:https://www.budeseapool.org/event/open-hub-10-4/
LOCATION:Bude Sea Pool Hub\, Bude\, Cornwall\, EX23 8HN\, United Kingdom
CATEGORIES:Hub in Use
END:VEVENT
BEGIN:VEVENT
DTSTART;TZID=Europe/London:20240531T080000
DTEND;TZID=Europe/London:20240531T093000
DTSTAMP:20260424T102635
CREATED:20240529T172403Z
LAST-MODIFIED:20240529T172404Z
UID:10001022-1717142400-1717147800@www.budeseapool.org
SUMMARY:Open Hub
DESCRIPTION:The Hub is open for all members of the community to use to warm up after a dip in the Pool. It is not for changing\, which must happen outside. Donations to support Friends of Bude Sea Pool and for refreshments.
URL:https://www.budeseapool.org/event/open-hub-10-3/
LOCATION:Bude Sea Pool Hub\, Bude\, Cornwall\, EX23 8HN\, United Kingdom
CATEGORIES:Hub in Use
END:VEVENT
BEGIN:VEVENT
DTSTART;TZID=Europe/London:20240530T080000
DTEND;TZID=Europe/London:20240530T093000
DTSTAMP:20260424T102635
CREATED:20240529T172327Z
LAST-MODIFIED:20240529T172327Z
UID:10001021-1717056000-1717061400@www.budeseapool.org
SUMMARY:Open Hub
DESCRIPTION:The Hub is open for all members of the community to use to warm up after a dip in the Pool. It is not for changing\, which must happen outside. Donations to support Friends of Bude Sea Pool and for refreshments.
URL:https://www.budeseapool.org/event/open-hub-10-2/
LOCATION:Bude Sea Pool Hub\, Bude\, Cornwall\, EX23 8HN\, United Kingdom
CATEGORIES:Hub in Use
END:VEVENT
BEGIN:VEVENT
DTSTART;TZID=Europe/London:20240529T080000
DTEND;TZID=Europe/London:20240529T100000
DTSTAMP:20260424T102635
CREATED:20240212T180051Z
LAST-MODIFIED:20240212T180139Z
UID:10001020-1716969600-1716976800@www.budeseapool.org
SUMMARY:Open Hub
DESCRIPTION:The Hub is open for all members of the community to use to warm up after a dip in the Pool. It is not for changing\, which must happen outside. Donations to support Friends of Bude Sea Pool and for refreshments.
URL:https://www.budeseapool.org/event/open-hub-10/2024-05-29/
LOCATION:Bude Sea Pool Hub\, Bude\, Cornwall\, EX23 8HN\, United Kingdom
CATEGORIES:Hub in Use
END:VEVENT
BEGIN:VEVENT
DTSTART;TZID=Europe/London:20240528T080000
DTEND;TZID=Europe/London:20240528T100000
DTSTAMP:20260424T102635
CREATED:20240212T180051Z
LAST-MODIFIED:20240212T180139Z
UID:10001019-1716883200-1716890400@www.budeseapool.org
SUMMARY:Open Hub
DESCRIPTION:The Hub is open for all members of the community to use to warm up after a dip in the Pool. It is not for changing\, which must happen outside. Donations to support Friends of Bude Sea Pool and for refreshments.
URL:https://www.budeseapool.org/event/open-hub-10/2024-05-28/
LOCATION:Bude Sea Pool Hub\, Bude\, Cornwall\, EX23 8HN\, United Kingdom
CATEGORIES:Hub in Use
END:VEVENT
BEGIN:VEVENT
DTSTART;TZID=Europe/London:20240527T080000
DTEND;TZID=Europe/London:20240527T100000
DTSTAMP:20260424T102635
CREATED:20240212T180051Z
LAST-MODIFIED:20240212T180139Z
UID:10001018-1716796800-1716804000@www.budeseapool.org
SUMMARY:Open Hub
DESCRIPTION:The Hub is open for all members of the community to use to warm up after a dip in the Pool. It is not for changing\, which must happen outside. Donations to support Friends of Bude Sea Pool and for refreshments.
URL:https://www.budeseapool.org/event/open-hub-10/2024-05-27/
LOCATION:Bude Sea Pool Hub\, Bude\, Cornwall\, EX23 8HN\, United Kingdom
CATEGORIES:Hub in Use
END:VEVENT
BEGIN:VEVENT
DTSTART;TZID=Europe/London:20240526T080000
DTEND;TZID=Europe/London:20240526T100000
DTSTAMP:20260424T102635
CREATED:20240212T180051Z
LAST-MODIFIED:20240212T180139Z
UID:10001017-1716710400-1716717600@www.budeseapool.org
SUMMARY:Open Hub
DESCRIPTION:The Hub is open for all members of the community to use to warm up after a dip in the Pool. It is not for changing\, which must happen outside. Donations to support Friends of Bude Sea Pool and for refreshments.
URL:https://www.budeseapool.org/event/open-hub-10/2024-05-26/
LOCATION:Bude Sea Pool Hub\, Bude\, Cornwall\, EX23 8HN\, United Kingdom
CATEGORIES:Hub in Use
END:VEVENT
BEGIN:VEVENT
DTSTART;TZID=Europe/London:20240525T080000
DTEND;TZID=Europe/London:20240525T100000
DTSTAMP:20260424T102635
CREATED:20240212T180051Z
LAST-MODIFIED:20240212T180139Z
UID:10001016-1716624000-1716631200@www.budeseapool.org
SUMMARY:Open Hub
DESCRIPTION:The Hub is open for all members of the community to use to warm up after a dip in the Pool. It is not for changing\, which must happen outside. Donations to support Friends of Bude Sea Pool and for refreshments.
URL:https://www.budeseapool.org/event/open-hub-10/2024-05-25/
LOCATION:Bude Sea Pool Hub\, Bude\, Cornwall\, EX23 8HN\, United Kingdom
CATEGORIES:Hub in Use
END:VEVENT
BEGIN:VEVENT
DTSTART;TZID=Europe/London:20240508T000000
DTEND;TZID=Europe/London:20240522T233000
DTSTAMP:20260424T102635
CREATED:20240212T134916Z
LAST-MODIFIED:20240507T172310Z
UID:10000617-1715126400-1716420600@www.budeseapool.org
SUMMARY:Annual maintenance pool closure
DESCRIPTION:The annual closure of Bude Sea Pool for maintenance and works is taking place Wednesday 8 May.\nVanstones our contractors are anticipating a two week closure until the Pool is ready  for refilling.
URL:https://www.budeseapool.org/event/annual-maintenance-pool-closure/
LOCATION:Bude Sea Pool\, Bude Sea Pool\, Bude\, EX23 8HN\, United Kingdom
CATEGORIES:Pool in Use
GEO:50.832701786283;-4.5539932734708
X-APPLE-STRUCTURED-LOCATION;VALUE=URI;X-ADDRESS=Bude Sea Pool Bude Sea Pool Bude EX23 8HN United Kingdom;X-APPLE-RADIUS=500;X-TITLE=Bude Sea Pool:geo:-4.5539932734708,50.832701786283
END:VEVENT
BEGIN:VEVENT
DTSTART;TZID=Europe/London:20240505T080000
DTEND;TZID=Europe/London:20240505T100000
DTSTAMP:20260424T102635
CREATED:20240212T170900Z
LAST-MODIFIED:20240212T171142Z
UID:10001015-1714896000-1714903200@www.budeseapool.org
SUMMARY:Open Hub
DESCRIPTION:The Hub is open for all members of the community to use to warm up after a dip in the Pool. It is not for changing\, which must happen outside. Donations to support Friends of Bude Sea Pool and for refreshments.
URL:https://www.budeseapool.org/event/open-hub-9/2024-05-05/
LOCATION:Bude Sea Pool Hub\, Bude\, Cornwall\, EX23 8HN\, United Kingdom
CATEGORIES:Hub in Use
END:VEVENT
BEGIN:VEVENT
DTSTART;TZID=Europe/London:20240504T080000
DTEND;TZID=Europe/London:20240504T100000
DTSTAMP:20260424T102635
CREATED:20240212T170900Z
LAST-MODIFIED:20240212T171142Z
UID:10001014-1714809600-1714816800@www.budeseapool.org
SUMMARY:Open Hub
DESCRIPTION:The Hub is open for all members of the community to use to warm up after a dip in the Pool. It is not for changing\, which must happen outside. Donations to support Friends of Bude Sea Pool and for refreshments.
URL:https://www.budeseapool.org/event/open-hub-9/2024-05-04/
LOCATION:Bude Sea Pool Hub\, Bude\, Cornwall\, EX23 8HN\, United Kingdom
CATEGORIES:Hub in Use
END:VEVENT
BEGIN:VEVENT
DTSTART;TZID=Europe/London:20240503T100000
DTEND;TZID=Europe/London:20240503T120000
DTSTAMP:20260424T102635
CREATED:20240212T165800Z
LAST-MODIFIED:20240212T170319Z
UID:10001013-1714730400-1714737600@www.budeseapool.org
SUMMARY:Open Hub
DESCRIPTION:The Hub is open for all members of the community to use to warm up after a dip in the Pool. It is not for changing\, which must happen outside. Donations to support Friends of Bude Sea Pool and for refreshments.
URL:https://www.budeseapool.org/event/open-hub-8/2024-05-03/
LOCATION:Bude Sea Pool Hub\, Bude\, Cornwall\, EX23 8HN\, United Kingdom
CATEGORIES:Hub in Use
END:VEVENT
BEGIN:VEVENT
DTSTART;TZID=Europe/London:20240502T100000
DTEND;TZID=Europe/London:20240502T120000
DTSTAMP:20260424T102635
CREATED:20240212T165800Z
LAST-MODIFIED:20240212T170319Z
UID:10001012-1714644000-1714651200@www.budeseapool.org
SUMMARY:Open Hub
DESCRIPTION:The Hub is open for all members of the community to use to warm up after a dip in the Pool. It is not for changing\, which must happen outside. Donations to support Friends of Bude Sea Pool and for refreshments.
URL:https://www.budeseapool.org/event/open-hub-8/2024-05-02/
LOCATION:Bude Sea Pool Hub\, Bude\, Cornwall\, EX23 8HN\, United Kingdom
CATEGORIES:Hub in Use
END:VEVENT
BEGIN:VEVENT
DTSTART;TZID=Europe/London:20240501T100000
DTEND;TZID=Europe/London:20240501T120000
DTSTAMP:20260424T102635
CREATED:20240212T165800Z
LAST-MODIFIED:20240212T170319Z
UID:10001011-1714557600-1714564800@www.budeseapool.org
SUMMARY:Open Hub
DESCRIPTION:The Hub is open for all members of the community to use to warm up after a dip in the Pool. It is not for changing\, which must happen outside. Donations to support Friends of Bude Sea Pool and for refreshments.
URL:https://www.budeseapool.org/event/open-hub-8/2024-05-01/
LOCATION:Bude Sea Pool Hub\, Bude\, Cornwall\, EX23 8HN\, United Kingdom
CATEGORIES:Hub in Use
END:VEVENT
BEGIN:VEVENT
DTSTART;TZID=Europe/London:20240430T100000
DTEND;TZID=Europe/London:20240430T120000
DTSTAMP:20260424T102635
CREATED:20240212T165800Z
LAST-MODIFIED:20240212T170319Z
UID:10001010-1714471200-1714478400@www.budeseapool.org
SUMMARY:Open Hub
DESCRIPTION:The Hub is open for all members of the community to use to warm up after a dip in the Pool. It is not for changing\, which must happen outside. Donations to support Friends of Bude Sea Pool and for refreshments.
URL:https://www.budeseapool.org/event/open-hub-8/2024-04-30/
LOCATION:Bude Sea Pool Hub\, Bude\, Cornwall\, EX23 8HN\, United Kingdom
CATEGORIES:Hub in Use
END:VEVENT
BEGIN:VEVENT
DTSTART;TZID=Europe/London:20240429T100000
DTEND;TZID=Europe/London:20240429T120000
DTSTAMP:20260424T102635
CREATED:20240212T165800Z
LAST-MODIFIED:20240212T170319Z
UID:10001009-1714384800-1714392000@www.budeseapool.org
SUMMARY:Open Hub
DESCRIPTION:The Hub is open for all members of the community to use to warm up after a dip in the Pool. It is not for changing\, which must happen outside. Donations to support Friends of Bude Sea Pool and for refreshments.
URL:https://www.budeseapool.org/event/open-hub-8/2024-04-29/
LOCATION:Bude Sea Pool Hub\, Bude\, Cornwall\, EX23 8HN\, United Kingdom
CATEGORIES:Hub in Use
END:VEVENT
BEGIN:VEVENT
DTSTART;TZID=Europe/London:20240428T080000
DTEND;TZID=Europe/London:20240428T093000
DTSTAMP:20260424T102635
CREATED:20240212T165036Z
LAST-MODIFIED:20240401T182804Z
UID:10001008-1714291200-1714296600@www.budeseapool.org
SUMMARY:Open Hub
DESCRIPTION:The Hub is open for all members of the community to use to warm up after a dip in the Pool. It is not for changing\, which must happen outside. Donations to support Friends of Bude Sea Pool and for refreshments.
URL:https://www.budeseapool.org/event/open-hub-7/2024-04-28/
LOCATION:Bude Sea Pool Hub\, Bude\, Cornwall\, EX23 8HN\, United Kingdom
CATEGORIES:Hub in Use
END:VEVENT
BEGIN:VEVENT
DTSTART;TZID=Europe/London:20240427T080000
DTEND;TZID=Europe/London:20240427T093000
DTSTAMP:20260424T102635
CREATED:20240212T165036Z
LAST-MODIFIED:20240401T182804Z
UID:10001007-1714204800-1714210200@www.budeseapool.org
SUMMARY:Open Hub
DESCRIPTION:The Hub is open for all members of the community to use to warm up after a dip in the Pool. It is not for changing\, which must happen outside. Donations to support Friends of Bude Sea Pool and for refreshments.
URL:https://www.budeseapool.org/event/open-hub-7/2024-04-27/
LOCATION:Bude Sea Pool Hub\, Bude\, Cornwall\, EX23 8HN\, United Kingdom
CATEGORIES:Hub in Use
END:VEVENT
BEGIN:VEVENT
DTSTART;TZID=Europe/London:20240426T100000
DTEND;TZID=Europe/London:20240426T120000
DTSTAMP:20260424T102635
CREATED:20240212T164240Z
LAST-MODIFIED:20240212T164443Z
UID:10001006-1714125600-1714132800@www.budeseapool.org
SUMMARY:Open Hub
DESCRIPTION:The Hub is open for all members of the community to use to warm up after a dip in the Pool. It is not for changing\, which must happen outside. Donations to support Friends of Bude Sea Pool and for refreshments.
URL:https://www.budeseapool.org/event/open-hub-6/2024-04-26/
LOCATION:Bude Sea Pool Hub\, Bude\, Cornwall\, EX23 8HN\, United Kingdom
CATEGORIES:Hub in Use
END:VEVENT
BEGIN:VEVENT
DTSTART;TZID=Europe/London:20240425T100000
DTEND;TZID=Europe/London:20240425T120000
DTSTAMP:20260424T102635
CREATED:20240212T164240Z
LAST-MODIFIED:20240212T164443Z
UID:10001005-1714039200-1714046400@www.budeseapool.org
SUMMARY:Open Hub
DESCRIPTION:The Hub is open for all members of the community to use to warm up after a dip in the Pool. It is not for changing\, which must happen outside. Donations to support Friends of Bude Sea Pool and for refreshments.
URL:https://www.budeseapool.org/event/open-hub-6/2024-04-25/
LOCATION:Bude Sea Pool Hub\, Bude\, Cornwall\, EX23 8HN\, United Kingdom
CATEGORIES:Hub in Use
END:VEVENT
BEGIN:VEVENT
DTSTART;TZID=Europe/London:20240424T100000
DTEND;TZID=Europe/London:20240424T120000
DTSTAMP:20260424T102635
CREATED:20240212T164240Z
LAST-MODIFIED:20240212T164443Z
UID:10001004-1713952800-1713960000@www.budeseapool.org
SUMMARY:Open Hub
DESCRIPTION:The Hub is open for all members of the community to use to warm up after a dip in the Pool. It is not for changing\, which must happen outside. Donations to support Friends of Bude Sea Pool and for refreshments.
URL:https://www.budeseapool.org/event/open-hub-6/2024-04-24/
LOCATION:Bude Sea Pool Hub\, Bude\, Cornwall\, EX23 8HN\, United Kingdom
CATEGORIES:Hub in Use
END:VEVENT
BEGIN:VEVENT
DTSTART;TZID=Europe/London:20240423T100000
DTEND;TZID=Europe/London:20240423T120000
DTSTAMP:20260424T102635
CREATED:20240212T164240Z
LAST-MODIFIED:20240212T164443Z
UID:10001003-1713866400-1713873600@www.budeseapool.org
SUMMARY:Open Hub
DESCRIPTION:The Hub is open for all members of the community to use to warm up after a dip in the Pool. It is not for changing\, which must happen outside. Donations to support Friends of Bude Sea Pool and for refreshments.
URL:https://www.budeseapool.org/event/open-hub-6/2024-04-23/
LOCATION:Bude Sea Pool Hub\, Bude\, Cornwall\, EX23 8HN\, United Kingdom
CATEGORIES:Hub in Use
END:VEVENT
BEGIN:VEVENT
DTSTART;VALUE=DATE:20240423
DTEND;VALUE=DATE:20240424
DTSTAMP:20260424T102635
CREATED:20240401T181117Z
LAST-MODIFIED:20240409T191438Z
UID:10001257-1713830400-1713916799@www.budeseapool.org
SUMMARY:Toro Tapas Taster Time with Friends of Bude Sea Pool
DESCRIPTION:Come and join the FoBSP takeover of Toro Tapas for this night! £25 per head for a taster menu. Plus a sea shanty singing starter from our very own Barrel Seagals and an after dinner auction too! Pop the date in your diary\, get some friends together and we will have more details about how to book and what to expect very soon! \nTuesday 23 – Saturday 27 April.  Toro Tapas and Kerenza Bar offer! They are kindly donating 10% of their takings in the bar and for food during this week to Friends of Bude Sea Pool.
URL:https://www.budeseapool.org/event/toro-tapas-taster-time-with-friends-of-bude-sea-pool/
LOCATION:Toro Tapas\, Kerenza Hotel\, Flexbury Avenue\, Bude\, Cornwall\, EX23 8RE\, United Kingdom
CATEGORIES:Public Events not at the Pool
END:VEVENT
BEGIN:VEVENT
DTSTART;TZID=Europe/London:20240422T100000
DTEND;TZID=Europe/London:20240422T120000
DTSTAMP:20260424T102635
CREATED:20240212T164240Z
LAST-MODIFIED:20240212T164443Z
UID:10001002-1713780000-1713787200@www.budeseapool.org
SUMMARY:Open Hub
DESCRIPTION:The Hub is open for all members of the community to use to warm up after a dip in the Pool. It is not for changing\, which must happen outside. Donations to support Friends of Bude Sea Pool and for refreshments.
URL:https://www.budeseapool.org/event/open-hub-6/2024-04-22/
LOCATION:Bude Sea Pool Hub\, Bude\, Cornwall\, EX23 8HN\, United Kingdom
CATEGORIES:Hub in Use
END:VEVENT
BEGIN:VEVENT
DTSTART;TZID=Europe/London:20240421T080000
DTEND;TZID=Europe/London:20240421T093000
DTSTAMP:20260424T102635
CREATED:20240212T143342Z
LAST-MODIFIED:20240401T182659Z
UID:10001001-1713686400-1713691800@www.budeseapool.org
SUMMARY:Open Hub
DESCRIPTION:The Hub is open for all members of the community to use to warm up after a dip in the Pool. It is not for changing\, which must happen outside. Donations to support Friends of Bude Sea Pool and for refreshments.
URL:https://www.budeseapool.org/event/open-hub-5/2024-04-21/
LOCATION:Bude Sea Pool Hub\, Bude\, Cornwall\, EX23 8HN\, United Kingdom
CATEGORIES:Hub in Use
END:VEVENT
END:VCALENDAR