BEGIN:VCALENDAR
VERSION:2.0
PRODID:-//FoBSP - Friends of Bude Sea Pool - ECPv6.0.4//NONSGML v1.0//EN
CALSCALE:GREGORIAN
METHOD:PUBLISH
X-WR-CALNAME:FoBSP - Friends of Bude Sea Pool
X-ORIGINAL-URL:https://www.budeseapool.org
X-WR-CALDESC:Events for FoBSP - Friends of Bude Sea Pool
REFRESH-INTERVAL;VALUE=DURATION:PT1H
X-Robots-Tag:noindex
X-PUBLISHED-TTL:PT1H
BEGIN:VTIMEZONE
TZID:Europe/London
BEGIN:DAYLIGHT
TZOFFSETFROM:+0000
TZOFFSETTO:+0100
TZNAME:BST
DTSTART:20240331T010000
END:DAYLIGHT
BEGIN:STANDARD
TZOFFSETFROM:+0100
TZOFFSETTO:+0000
TZNAME:GMT
DTSTART:20241027T010000
END:STANDARD
END:VTIMEZONE
BEGIN:VEVENT
DTSTART;TZID=Europe/London:20240207T100000
DTEND;TZID=Europe/London:20240207T120000
DTSTAMP:20260424T163851
CREATED:20230925T130801Z
LAST-MODIFIED:20230925T132452Z
UID:10000392-1707300000-1707307200@www.budeseapool.org
SUMMARY:Open Hub
DESCRIPTION:The Hub is open for all members of the community to use to warm up after a dip in the Pool. It is not for changing\, which must happen outside. Donations to support Friends of Bude Sea Pool and for refreshments.
URL:https://www.budeseapool.org/event/the-hub-is-open/2024-02-07/
LOCATION:Bude Sea Pool Hub\, Bude\, Cornwall\, EX23 8HN\, United Kingdom
CATEGORIES:Hub in Use
END:VEVENT
BEGIN:VEVENT
DTSTART;TZID=Europe/London:20240206T100000
DTEND;TZID=Europe/London:20240206T120000
DTSTAMP:20260424T163851
CREATED:20230925T130801Z
LAST-MODIFIED:20230925T132452Z
UID:10000391-1707213600-1707220800@www.budeseapool.org
SUMMARY:Open Hub
DESCRIPTION:The Hub is open for all members of the community to use to warm up after a dip in the Pool. It is not for changing\, which must happen outside. Donations to support Friends of Bude Sea Pool and for refreshments.
URL:https://www.budeseapool.org/event/the-hub-is-open/2024-02-06/
LOCATION:Bude Sea Pool Hub\, Bude\, Cornwall\, EX23 8HN\, United Kingdom
CATEGORIES:Hub in Use
END:VEVENT
BEGIN:VEVENT
DTSTART;TZID=Europe/London:20240205T173000
DTEND;TZID=Europe/London:20240205T183000
DTSTAMP:20260424T163851
CREATED:20240129T202450Z
LAST-MODIFIED:20240212T131849Z
UID:10000593-1707154200-1707157800@www.budeseapool.org
SUMMARY:Night Swims
DESCRIPTION:The floodlights will be on for the hour for a spot of night swimming.  Please note that you visit the pool and swim entirely at your own risk. Please sign in at the hub before changing and there will be no entry in the water until the volunteer spotters are in place poolside. We ask that you wear a headtorch when swimming or use a tow float with a light in it so that you can been seen in the water at all times. Please bring your lidded cup as hot drinks will be available in the hub afterwards.  The hub will close at 6.45 so last entry in the water will be 6.15. Please bring a £2 donation. Many thanks. Happy swimming!
URL:https://www.budeseapool.org/event/night-swims-9/
LOCATION:Bude Sea Pool Hub\, Bude\, Cornwall\, EX23 8HN\, United Kingdom
CATEGORIES:Hub in Use,Pool in Use
END:VEVENT
BEGIN:VEVENT
DTSTART;TZID=Europe/London:20240205T100000
DTEND;TZID=Europe/London:20240205T120000
DTSTAMP:20260424T163851
CREATED:20230925T130801Z
LAST-MODIFIED:20230925T132452Z
UID:10000390-1707127200-1707134400@www.budeseapool.org
SUMMARY:Open Hub
DESCRIPTION:The Hub is open for all members of the community to use to warm up after a dip in the Pool. It is not for changing\, which must happen outside. Donations to support Friends of Bude Sea Pool and for refreshments.
URL:https://www.budeseapool.org/event/the-hub-is-open/2024-02-05/
LOCATION:Bude Sea Pool Hub\, Bude\, Cornwall\, EX23 8HN\, United Kingdom
CATEGORIES:Hub in Use
END:VEVENT
BEGIN:VEVENT
DTSTART;TZID=Europe/London:20240202T100000
DTEND;TZID=Europe/London:20240202T120000
DTSTAMP:20260424T163851
CREATED:20230925T130801Z
LAST-MODIFIED:20230925T132452Z
UID:10000389-1706868000-1706875200@www.budeseapool.org
SUMMARY:Open Hub
DESCRIPTION:The Hub is open for all members of the community to use to warm up after a dip in the Pool. It is not for changing\, which must happen outside. Donations to support Friends of Bude Sea Pool and for refreshments.
URL:https://www.budeseapool.org/event/the-hub-is-open/2024-02-02/
LOCATION:Bude Sea Pool Hub\, Bude\, Cornwall\, EX23 8HN\, United Kingdom
CATEGORIES:Hub in Use
END:VEVENT
BEGIN:VEVENT
DTSTART;TZID=Europe/London:20240201T193000
DTEND;TZID=Europe/London:20240201T213000
DTSTAMP:20260424T163851
CREATED:20240115T142846Z
LAST-MODIFIED:20240115T142846Z
UID:10000588-1706815800-1706823000@www.budeseapool.org
SUMMARY:Bude Sea Pool Quiz Night
DESCRIPTION:Join us for a fun Quiz Night at Exclusive Bude Golf Club. \nTeams of 6\, £30 per table. Please email exclusivebude@gmail.com to book. \nFood available from 6pm\, quiz starts at 7.30pm. \nThe bar is open for this event. \nA raffle wil also take place in aid of Bude Sea Pool.
URL:https://www.budeseapool.org/event/bude-sea-pool-quiz-night/
LOCATION:Exclusive Bude Golf Club\, Burn View\, Bude\, EX23 8DA\, United Kingdom
CATEGORIES:Public Events not at the Pool
ATTACH;FMTTYPE=image/png:https://www.budeseapool.org/wp-content/uploads/FoBSP.A4.Quiz2024_BudeGolfClub.png
END:VEVENT
BEGIN:VEVENT
DTSTART;TZID=Europe/London:20240201T100000
DTEND;TZID=Europe/London:20240201T120000
DTSTAMP:20260424T163852
CREATED:20230925T130801Z
LAST-MODIFIED:20230925T132452Z
UID:10000388-1706781600-1706788800@www.budeseapool.org
SUMMARY:Open Hub
DESCRIPTION:The Hub is open for all members of the community to use to warm up after a dip in the Pool. It is not for changing\, which must happen outside. Donations to support Friends of Bude Sea Pool and for refreshments.
URL:https://www.budeseapool.org/event/the-hub-is-open/2024-02-01/
LOCATION:Bude Sea Pool Hub\, Bude\, Cornwall\, EX23 8HN\, United Kingdom
CATEGORIES:Hub in Use
END:VEVENT
BEGIN:VEVENT
DTSTART;TZID=Europe/London:20240131T100000
DTEND;TZID=Europe/London:20240131T120000
DTSTAMP:20260424T163852
CREATED:20230925T130801Z
LAST-MODIFIED:20230925T132452Z
UID:10000387-1706695200-1706702400@www.budeseapool.org
SUMMARY:Open Hub
DESCRIPTION:The Hub is open for all members of the community to use to warm up after a dip in the Pool. It is not for changing\, which must happen outside. Donations to support Friends of Bude Sea Pool and for refreshments.
URL:https://www.budeseapool.org/event/the-hub-is-open/2024-01-31/
LOCATION:Bude Sea Pool Hub\, Bude\, Cornwall\, EX23 8HN\, United Kingdom
CATEGORIES:Hub in Use
END:VEVENT
BEGIN:VEVENT
DTSTART;TZID=Europe/London:20240130T100000
DTEND;TZID=Europe/London:20240130T120000
DTSTAMP:20260424T163852
CREATED:20230925T130801Z
LAST-MODIFIED:20230925T132452Z
UID:10000386-1706608800-1706616000@www.budeseapool.org
SUMMARY:Open Hub
DESCRIPTION:The Hub is open for all members of the community to use to warm up after a dip in the Pool. It is not for changing\, which must happen outside. Donations to support Friends of Bude Sea Pool and for refreshments.
URL:https://www.budeseapool.org/event/the-hub-is-open/2024-01-30/
LOCATION:Bude Sea Pool Hub\, Bude\, Cornwall\, EX23 8HN\, United Kingdom
CATEGORIES:Hub in Use
END:VEVENT
BEGIN:VEVENT
DTSTART;TZID=Europe/London:20240129T100000
DTEND;TZID=Europe/London:20240129T120000
DTSTAMP:20260424T163852
CREATED:20230925T130801Z
LAST-MODIFIED:20230925T132452Z
UID:10000385-1706522400-1706529600@www.budeseapool.org
SUMMARY:Open Hub
DESCRIPTION:The Hub is open for all members of the community to use to warm up after a dip in the Pool. It is not for changing\, which must happen outside. Donations to support Friends of Bude Sea Pool and for refreshments.
URL:https://www.budeseapool.org/event/the-hub-is-open/2024-01-29/
LOCATION:Bude Sea Pool Hub\, Bude\, Cornwall\, EX23 8HN\, United Kingdom
CATEGORIES:Hub in Use
END:VEVENT
BEGIN:VEVENT
DTSTART;TZID=Europe/London:20240126T100000
DTEND;TZID=Europe/London:20240126T120000
DTSTAMP:20260424T163852
CREATED:20230925T130801Z
LAST-MODIFIED:20230925T132452Z
UID:10000384-1706263200-1706270400@www.budeseapool.org
SUMMARY:Open Hub
DESCRIPTION:The Hub is open for all members of the community to use to warm up after a dip in the Pool. It is not for changing\, which must happen outside. Donations to support Friends of Bude Sea Pool and for refreshments.
URL:https://www.budeseapool.org/event/the-hub-is-open/2024-01-26/
LOCATION:Bude Sea Pool Hub\, Bude\, Cornwall\, EX23 8HN\, United Kingdom
CATEGORIES:Hub in Use
END:VEVENT
BEGIN:VEVENT
DTSTART;TZID=Europe/London:20240125T100000
DTEND;TZID=Europe/London:20240125T120000
DTSTAMP:20260424T163852
CREATED:20230925T130801Z
LAST-MODIFIED:20230925T132452Z
UID:10000383-1706176800-1706184000@www.budeseapool.org
SUMMARY:Open Hub
DESCRIPTION:The Hub is open for all members of the community to use to warm up after a dip in the Pool. It is not for changing\, which must happen outside. Donations to support Friends of Bude Sea Pool and for refreshments.
URL:https://www.budeseapool.org/event/the-hub-is-open/2024-01-25/
LOCATION:Bude Sea Pool Hub\, Bude\, Cornwall\, EX23 8HN\, United Kingdom
CATEGORIES:Hub in Use
END:VEVENT
BEGIN:VEVENT
DTSTART;TZID=Europe/London:20240124T100000
DTEND;TZID=Europe/London:20240124T120000
DTSTAMP:20260424T163852
CREATED:20230925T130801Z
LAST-MODIFIED:20230925T132452Z
UID:10000382-1706090400-1706097600@www.budeseapool.org
SUMMARY:Open Hub
DESCRIPTION:The Hub is open for all members of the community to use to warm up after a dip in the Pool. It is not for changing\, which must happen outside. Donations to support Friends of Bude Sea Pool and for refreshments.
URL:https://www.budeseapool.org/event/the-hub-is-open/2024-01-24/
LOCATION:Bude Sea Pool Hub\, Bude\, Cornwall\, EX23 8HN\, United Kingdom
CATEGORIES:Hub in Use
END:VEVENT
BEGIN:VEVENT
DTSTART;TZID=Europe/London:20240123T100000
DTEND;TZID=Europe/London:20240123T120000
DTSTAMP:20260424T163852
CREATED:20230925T130801Z
LAST-MODIFIED:20230925T132452Z
UID:10000381-1706004000-1706011200@www.budeseapool.org
SUMMARY:Open Hub
DESCRIPTION:The Hub is open for all members of the community to use to warm up after a dip in the Pool. It is not for changing\, which must happen outside. Donations to support Friends of Bude Sea Pool and for refreshments.
URL:https://www.budeseapool.org/event/the-hub-is-open/2024-01-23/
LOCATION:Bude Sea Pool Hub\, Bude\, Cornwall\, EX23 8HN\, United Kingdom
CATEGORIES:Hub in Use
END:VEVENT
BEGIN:VEVENT
DTSTART;TZID=Europe/London:20240122T100000
DTEND;TZID=Europe/London:20240122T120000
DTSTAMP:20260424T163852
CREATED:20230925T130801Z
LAST-MODIFIED:20230925T132452Z
UID:10000380-1705917600-1705924800@www.budeseapool.org
SUMMARY:Open Hub
DESCRIPTION:The Hub is open for all members of the community to use to warm up after a dip in the Pool. It is not for changing\, which must happen outside. Donations to support Friends of Bude Sea Pool and for refreshments.
URL:https://www.budeseapool.org/event/the-hub-is-open/2024-01-22/
LOCATION:Bude Sea Pool Hub\, Bude\, Cornwall\, EX23 8HN\, United Kingdom
CATEGORIES:Hub in Use
END:VEVENT
BEGIN:VEVENT
DTSTART;TZID=Europe/London:20240119T100000
DTEND;TZID=Europe/London:20240119T120000
DTSTAMP:20260424T163852
CREATED:20230925T130801Z
LAST-MODIFIED:20230925T132452Z
UID:10000379-1705658400-1705665600@www.budeseapool.org
SUMMARY:Open Hub
DESCRIPTION:The Hub is open for all members of the community to use to warm up after a dip in the Pool. It is not for changing\, which must happen outside. Donations to support Friends of Bude Sea Pool and for refreshments.
URL:https://www.budeseapool.org/event/the-hub-is-open/2024-01-19/
LOCATION:Bude Sea Pool Hub\, Bude\, Cornwall\, EX23 8HN\, United Kingdom
CATEGORIES:Hub in Use
END:VEVENT
BEGIN:VEVENT
DTSTART;TZID=Europe/London:20240118T100000
DTEND;TZID=Europe/London:20240118T120000
DTSTAMP:20260424T163852
CREATED:20230925T130801Z
LAST-MODIFIED:20230925T132452Z
UID:10000378-1705572000-1705579200@www.budeseapool.org
SUMMARY:Open Hub
DESCRIPTION:The Hub is open for all members of the community to use to warm up after a dip in the Pool. It is not for changing\, which must happen outside. Donations to support Friends of Bude Sea Pool and for refreshments.
URL:https://www.budeseapool.org/event/the-hub-is-open/2024-01-18/
LOCATION:Bude Sea Pool Hub\, Bude\, Cornwall\, EX23 8HN\, United Kingdom
CATEGORIES:Hub in Use
END:VEVENT
BEGIN:VEVENT
DTSTART;TZID=Europe/London:20240117T100000
DTEND;TZID=Europe/London:20240117T120000
DTSTAMP:20260424T163852
CREATED:20230925T130801Z
LAST-MODIFIED:20230925T132452Z
UID:10000377-1705485600-1705492800@www.budeseapool.org
SUMMARY:Open Hub
DESCRIPTION:The Hub is open for all members of the community to use to warm up after a dip in the Pool. It is not for changing\, which must happen outside. Donations to support Friends of Bude Sea Pool and for refreshments.
URL:https://www.budeseapool.org/event/the-hub-is-open/2024-01-17/
LOCATION:Bude Sea Pool Hub\, Bude\, Cornwall\, EX23 8HN\, United Kingdom
CATEGORIES:Hub in Use
END:VEVENT
BEGIN:VEVENT
DTSTART;TZID=Europe/London:20240116T100000
DTEND;TZID=Europe/London:20240116T120000
DTSTAMP:20260424T163852
CREATED:20230925T130801Z
LAST-MODIFIED:20230925T132452Z
UID:10000376-1705399200-1705406400@www.budeseapool.org
SUMMARY:Open Hub
DESCRIPTION:The Hub is open for all members of the community to use to warm up after a dip in the Pool. It is not for changing\, which must happen outside. Donations to support Friends of Bude Sea Pool and for refreshments.
URL:https://www.budeseapool.org/event/the-hub-is-open/2024-01-16/
LOCATION:Bude Sea Pool Hub\, Bude\, Cornwall\, EX23 8HN\, United Kingdom
CATEGORIES:Hub in Use
END:VEVENT
BEGIN:VEVENT
DTSTART;TZID=Europe/London:20240115T180000
DTEND;TZID=Europe/London:20240115T200000
DTSTAMP:20260424T163852
CREATED:20230703T140144Z
LAST-MODIFIED:20230703T140301Z
UID:10000265-1705341600-1705348800@www.budeseapool.org
SUMMARY:FoBSP Committee Meeting
DESCRIPTION:
URL:https://www.budeseapool.org/event/fobsp-committee-meeting-2/2024-01-15/
CATEGORIES:Internal Meetings
END:VEVENT
BEGIN:VEVENT
DTSTART;TZID=Europe/London:20240115T100000
DTEND;TZID=Europe/London:20240115T120000
DTSTAMP:20260424T163853
CREATED:20230925T130801Z
LAST-MODIFIED:20230925T132452Z
UID:10000375-1705312800-1705320000@www.budeseapool.org
SUMMARY:Open Hub
DESCRIPTION:The Hub is open for all members of the community to use to warm up after a dip in the Pool. It is not for changing\, which must happen outside. Donations to support Friends of Bude Sea Pool and for refreshments.
URL:https://www.budeseapool.org/event/the-hub-is-open/2024-01-15/
LOCATION:Bude Sea Pool Hub\, Bude\, Cornwall\, EX23 8HN\, United Kingdom
CATEGORIES:Hub in Use
END:VEVENT
BEGIN:VEVENT
DTSTART;TZID=Europe/London:20240112T100000
DTEND;TZID=Europe/London:20240112T120000
DTSTAMP:20260424T163853
CREATED:20230925T130801Z
LAST-MODIFIED:20230925T132452Z
UID:10000374-1705053600-1705060800@www.budeseapool.org
SUMMARY:Open Hub
DESCRIPTION:The Hub is open for all members of the community to use to warm up after a dip in the Pool. It is not for changing\, which must happen outside. Donations to support Friends of Bude Sea Pool and for refreshments.
URL:https://www.budeseapool.org/event/the-hub-is-open/2024-01-12/
LOCATION:Bude Sea Pool Hub\, Bude\, Cornwall\, EX23 8HN\, United Kingdom
CATEGORIES:Hub in Use
END:VEVENT
BEGIN:VEVENT
DTSTART;TZID=Europe/London:20240111T100000
DTEND;TZID=Europe/London:20240111T120000
DTSTAMP:20260424T163853
CREATED:20230925T130801Z
LAST-MODIFIED:20230925T132452Z
UID:10000373-1704967200-1704974400@www.budeseapool.org
SUMMARY:Open Hub
DESCRIPTION:The Hub is open for all members of the community to use to warm up after a dip in the Pool. It is not for changing\, which must happen outside. Donations to support Friends of Bude Sea Pool and for refreshments.
URL:https://www.budeseapool.org/event/the-hub-is-open/2024-01-11/
LOCATION:Bude Sea Pool Hub\, Bude\, Cornwall\, EX23 8HN\, United Kingdom
CATEGORIES:Hub in Use
END:VEVENT
BEGIN:VEVENT
DTSTART;TZID=Europe/London:20240110T100000
DTEND;TZID=Europe/London:20240110T120000
DTSTAMP:20260424T163853
CREATED:20230925T130801Z
LAST-MODIFIED:20230925T132452Z
UID:10000372-1704880800-1704888000@www.budeseapool.org
SUMMARY:Open Hub
DESCRIPTION:The Hub is open for all members of the community to use to warm up after a dip in the Pool. It is not for changing\, which must happen outside. Donations to support Friends of Bude Sea Pool and for refreshments.
URL:https://www.budeseapool.org/event/the-hub-is-open/2024-01-10/
LOCATION:Bude Sea Pool Hub\, Bude\, Cornwall\, EX23 8HN\, United Kingdom
CATEGORIES:Hub in Use
END:VEVENT
BEGIN:VEVENT
DTSTART;TZID=Europe/London:20240109T100000
DTEND;TZID=Europe/London:20240109T120000
DTSTAMP:20260424T163853
CREATED:20230925T130801Z
LAST-MODIFIED:20230925T132452Z
UID:10000371-1704794400-1704801600@www.budeseapool.org
SUMMARY:Open Hub
DESCRIPTION:The Hub is open for all members of the community to use to warm up after a dip in the Pool. It is not for changing\, which must happen outside. Donations to support Friends of Bude Sea Pool and for refreshments.
URL:https://www.budeseapool.org/event/the-hub-is-open/2024-01-09/
LOCATION:Bude Sea Pool Hub\, Bude\, Cornwall\, EX23 8HN\, United Kingdom
CATEGORIES:Hub in Use
END:VEVENT
BEGIN:VEVENT
DTSTART;TZID=Europe/London:20240108T100000
DTEND;TZID=Europe/London:20240108T120000
DTSTAMP:20260424T163853
CREATED:20230925T130801Z
LAST-MODIFIED:20230925T132452Z
UID:10000370-1704708000-1704715200@www.budeseapool.org
SUMMARY:Open Hub
DESCRIPTION:The Hub is open for all members of the community to use to warm up after a dip in the Pool. It is not for changing\, which must happen outside. Donations to support Friends of Bude Sea Pool and for refreshments.
URL:https://www.budeseapool.org/event/the-hub-is-open/2024-01-08/
LOCATION:Bude Sea Pool Hub\, Bude\, Cornwall\, EX23 8HN\, United Kingdom
CATEGORIES:Hub in Use
END:VEVENT
BEGIN:VEVENT
DTSTART;TZID=Europe/London:20240105T100000
DTEND;TZID=Europe/London:20240105T120000
DTSTAMP:20260424T163853
CREATED:20230925T130801Z
LAST-MODIFIED:20230925T132452Z
UID:10000369-1704448800-1704456000@www.budeseapool.org
SUMMARY:Open Hub
DESCRIPTION:The Hub is open for all members of the community to use to warm up after a dip in the Pool. It is not for changing\, which must happen outside. Donations to support Friends of Bude Sea Pool and for refreshments.
URL:https://www.budeseapool.org/event/the-hub-is-open/2024-01-05/
LOCATION:Bude Sea Pool Hub\, Bude\, Cornwall\, EX23 8HN\, United Kingdom
CATEGORIES:Hub in Use
END:VEVENT
BEGIN:VEVENT
DTSTART;TZID=Europe/London:20240104T100000
DTEND;TZID=Europe/London:20240104T120000
DTSTAMP:20260424T163853
CREATED:20230925T130801Z
LAST-MODIFIED:20230925T132452Z
UID:10000368-1704362400-1704369600@www.budeseapool.org
SUMMARY:Open Hub
DESCRIPTION:The Hub is open for all members of the community to use to warm up after a dip in the Pool. It is not for changing\, which must happen outside. Donations to support Friends of Bude Sea Pool and for refreshments.
URL:https://www.budeseapool.org/event/the-hub-is-open/2024-01-04/
LOCATION:Bude Sea Pool Hub\, Bude\, Cornwall\, EX23 8HN\, United Kingdom
CATEGORIES:Hub in Use
END:VEVENT
BEGIN:VEVENT
DTSTART;TZID=Europe/London:20240103T100000
DTEND;TZID=Europe/London:20240103T120000
DTSTAMP:20260424T163853
CREATED:20230925T130801Z
LAST-MODIFIED:20230925T132452Z
UID:10000367-1704276000-1704283200@www.budeseapool.org
SUMMARY:Open Hub
DESCRIPTION:The Hub is open for all members of the community to use to warm up after a dip in the Pool. It is not for changing\, which must happen outside. Donations to support Friends of Bude Sea Pool and for refreshments.
URL:https://www.budeseapool.org/event/the-hub-is-open/2024-01-03/
LOCATION:Bude Sea Pool Hub\, Bude\, Cornwall\, EX23 8HN\, United Kingdom
CATEGORIES:Hub in Use
END:VEVENT
BEGIN:VEVENT
DTSTART;TZID=Europe/London:20240102T100000
DTEND;TZID=Europe/London:20240102T120000
DTSTAMP:20260424T163853
CREATED:20230925T130801Z
LAST-MODIFIED:20230925T132452Z
UID:10000366-1704189600-1704196800@www.budeseapool.org
SUMMARY:Open Hub
DESCRIPTION:The Hub is open for all members of the community to use to warm up after a dip in the Pool. It is not for changing\, which must happen outside. Donations to support Friends of Bude Sea Pool and for refreshments.
URL:https://www.budeseapool.org/event/the-hub-is-open/2024-01-02/
LOCATION:Bude Sea Pool Hub\, Bude\, Cornwall\, EX23 8HN\, United Kingdom
CATEGORIES:Hub in Use
END:VEVENT
END:VCALENDAR