BEGIN:VCALENDAR
VERSION:2.0
PRODID:-//FoBSP - Friends of Bude Sea Pool - ECPv6.0.4//NONSGML v1.0//EN
CALSCALE:GREGORIAN
METHOD:PUBLISH
X-WR-CALNAME:FoBSP - Friends of Bude Sea Pool
X-ORIGINAL-URL:https://www.budeseapool.org
X-WR-CALDESC:Events for FoBSP - Friends of Bude Sea Pool
REFRESH-INTERVAL;VALUE=DURATION:PT1H
X-Robots-Tag:noindex
X-PUBLISHED-TTL:PT1H
BEGIN:VTIMEZONE
TZID:Europe/London
BEGIN:DAYLIGHT
TZOFFSETFROM:+0000
TZOFFSETTO:+0100
TZNAME:BST
DTSTART:20240331T010000
END:DAYLIGHT
BEGIN:STANDARD
TZOFFSETFROM:+0100
TZOFFSETTO:+0000
TZNAME:GMT
DTSTART:20241027T010000
END:STANDARD
END:VTIMEZONE
BEGIN:VEVENT
DTSTART;TZID=Europe/London:20241025T100000
DTEND;TZID=Europe/London:20241025T120000
DTSTAMP:20260423T171558
CREATED:20240212T181202Z
LAST-MODIFIED:20240212T181256Z
UID:10001178-1729850400-1729857600@www.budeseapool.org
SUMMARY:Open Hub
DESCRIPTION:The Hub is open for all members of the community to use to warm up after a dip in the Pool. It is not for changing\, which must happen outside. Donations to support Friends of Bude Sea Pool and for refreshments.
URL:https://www.budeseapool.org/event/open-hub-11/2024-10-25/
LOCATION:Bude Sea Pool Hub\, Bude\, Cornwall\, EX23 8HN\, United Kingdom
CATEGORIES:Hub in Use
END:VEVENT
BEGIN:VEVENT
DTSTART;TZID=Europe/London:20241024T100000
DTEND;TZID=Europe/London:20241024T120000
DTSTAMP:20260423T171558
CREATED:20240212T181202Z
LAST-MODIFIED:20240212T181256Z
UID:10001177-1729764000-1729771200@www.budeseapool.org
SUMMARY:Open Hub
DESCRIPTION:The Hub is open for all members of the community to use to warm up after a dip in the Pool. It is not for changing\, which must happen outside. Donations to support Friends of Bude Sea Pool and for refreshments.
URL:https://www.budeseapool.org/event/open-hub-11/2024-10-24/
LOCATION:Bude Sea Pool Hub\, Bude\, Cornwall\, EX23 8HN\, United Kingdom
CATEGORIES:Hub in Use
END:VEVENT
BEGIN:VEVENT
DTSTART;TZID=Europe/London:20241023T100000
DTEND;TZID=Europe/London:20241023T120000
DTSTAMP:20260423T171558
CREATED:20240212T181202Z
LAST-MODIFIED:20240212T181256Z
UID:10001176-1729677600-1729684800@www.budeseapool.org
SUMMARY:Open Hub
DESCRIPTION:The Hub is open for all members of the community to use to warm up after a dip in the Pool. It is not for changing\, which must happen outside. Donations to support Friends of Bude Sea Pool and for refreshments.
URL:https://www.budeseapool.org/event/open-hub-11/2024-10-23/
LOCATION:Bude Sea Pool Hub\, Bude\, Cornwall\, EX23 8HN\, United Kingdom
CATEGORIES:Hub in Use
END:VEVENT
BEGIN:VEVENT
DTSTART;TZID=Europe/London:20241022T100000
DTEND;TZID=Europe/London:20241022T120000
DTSTAMP:20260423T171558
CREATED:20240212T181202Z
LAST-MODIFIED:20240212T181256Z
UID:10001175-1729591200-1729598400@www.budeseapool.org
SUMMARY:Open Hub
DESCRIPTION:The Hub is open for all members of the community to use to warm up after a dip in the Pool. It is not for changing\, which must happen outside. Donations to support Friends of Bude Sea Pool and for refreshments.
URL:https://www.budeseapool.org/event/open-hub-11/2024-10-22/
LOCATION:Bude Sea Pool Hub\, Bude\, Cornwall\, EX23 8HN\, United Kingdom
CATEGORIES:Hub in Use
END:VEVENT
BEGIN:VEVENT
DTSTART;TZID=Europe/London:20241021T100000
DTEND;TZID=Europe/London:20241021T120000
DTSTAMP:20260423T171558
CREATED:20240212T181202Z
LAST-MODIFIED:20240212T181256Z
UID:10001174-1729504800-1729512000@www.budeseapool.org
SUMMARY:Open Hub
DESCRIPTION:The Hub is open for all members of the community to use to warm up after a dip in the Pool. It is not for changing\, which must happen outside. Donations to support Friends of Bude Sea Pool and for refreshments.
URL:https://www.budeseapool.org/event/open-hub-11/2024-10-21/
LOCATION:Bude Sea Pool Hub\, Bude\, Cornwall\, EX23 8HN\, United Kingdom
CATEGORIES:Hub in Use
END:VEVENT
BEGIN:VEVENT
DTSTART;TZID=Europe/London:20241020T100000
DTEND;TZID=Europe/London:20241020T120000
DTSTAMP:20260423T171558
CREATED:20240212T181202Z
LAST-MODIFIED:20240212T181256Z
UID:10001173-1729418400-1729425600@www.budeseapool.org
SUMMARY:Open Hub
DESCRIPTION:The Hub is open for all members of the community to use to warm up after a dip in the Pool. It is not for changing\, which must happen outside. Donations to support Friends of Bude Sea Pool and for refreshments.
URL:https://www.budeseapool.org/event/open-hub-11/2024-10-20/
LOCATION:Bude Sea Pool Hub\, Bude\, Cornwall\, EX23 8HN\, United Kingdom
CATEGORIES:Hub in Use
END:VEVENT
BEGIN:VEVENT
DTSTART;TZID=Europe/London:20241019T100000
DTEND;TZID=Europe/London:20241019T120000
DTSTAMP:20260423T171558
CREATED:20240212T181202Z
LAST-MODIFIED:20240212T181256Z
UID:10001172-1729332000-1729339200@www.budeseapool.org
SUMMARY:Open Hub
DESCRIPTION:The Hub is open for all members of the community to use to warm up after a dip in the Pool. It is not for changing\, which must happen outside. Donations to support Friends of Bude Sea Pool and for refreshments.
URL:https://www.budeseapool.org/event/open-hub-11/2024-10-19/
LOCATION:Bude Sea Pool Hub\, Bude\, Cornwall\, EX23 8HN\, United Kingdom
CATEGORIES:Hub in Use
END:VEVENT
BEGIN:VEVENT
DTSTART;TZID=Europe/London:20241018T100000
DTEND;TZID=Europe/London:20241018T120000
DTSTAMP:20260423T171558
CREATED:20240212T181202Z
LAST-MODIFIED:20240212T181256Z
UID:10001171-1729245600-1729252800@www.budeseapool.org
SUMMARY:Open Hub
DESCRIPTION:The Hub is open for all members of the community to use to warm up after a dip in the Pool. It is not for changing\, which must happen outside. Donations to support Friends of Bude Sea Pool and for refreshments.
URL:https://www.budeseapool.org/event/open-hub-11/2024-10-18/
LOCATION:Bude Sea Pool Hub\, Bude\, Cornwall\, EX23 8HN\, United Kingdom
CATEGORIES:Hub in Use
END:VEVENT
BEGIN:VEVENT
DTSTART;TZID=Europe/London:20241017T100000
DTEND;TZID=Europe/London:20241017T120000
DTSTAMP:20260423T171558
CREATED:20240212T181202Z
LAST-MODIFIED:20240212T181256Z
UID:10001170-1729159200-1729166400@www.budeseapool.org
SUMMARY:Open Hub
DESCRIPTION:The Hub is open for all members of the community to use to warm up after a dip in the Pool. It is not for changing\, which must happen outside. Donations to support Friends of Bude Sea Pool and for refreshments.
URL:https://www.budeseapool.org/event/open-hub-11/2024-10-17/
LOCATION:Bude Sea Pool Hub\, Bude\, Cornwall\, EX23 8HN\, United Kingdom
CATEGORIES:Hub in Use
END:VEVENT
BEGIN:VEVENT
DTSTART;TZID=Europe/London:20241016T100000
DTEND;TZID=Europe/London:20241016T120000
DTSTAMP:20260423T171558
CREATED:20240212T181202Z
LAST-MODIFIED:20240212T181256Z
UID:10001169-1729072800-1729080000@www.budeseapool.org
SUMMARY:Open Hub
DESCRIPTION:The Hub is open for all members of the community to use to warm up after a dip in the Pool. It is not for changing\, which must happen outside. Donations to support Friends of Bude Sea Pool and for refreshments.
URL:https://www.budeseapool.org/event/open-hub-11/2024-10-16/
LOCATION:Bude Sea Pool Hub\, Bude\, Cornwall\, EX23 8HN\, United Kingdom
CATEGORIES:Hub in Use
END:VEVENT
BEGIN:VEVENT
DTSTART;TZID=Europe/London:20241015T100000
DTEND;TZID=Europe/London:20241015T120000
DTSTAMP:20260423T171558
CREATED:20240212T181202Z
LAST-MODIFIED:20240212T181256Z
UID:10001168-1728986400-1728993600@www.budeseapool.org
SUMMARY:Open Hub
DESCRIPTION:The Hub is open for all members of the community to use to warm up after a dip in the Pool. It is not for changing\, which must happen outside. Donations to support Friends of Bude Sea Pool and for refreshments.
URL:https://www.budeseapool.org/event/open-hub-11/2024-10-15/
LOCATION:Bude Sea Pool Hub\, Bude\, Cornwall\, EX23 8HN\, United Kingdom
CATEGORIES:Hub in Use
END:VEVENT
BEGIN:VEVENT
DTSTART;TZID=Europe/London:20241014T100000
DTEND;TZID=Europe/London:20241014T120000
DTSTAMP:20260423T171558
CREATED:20240212T181202Z
LAST-MODIFIED:20240212T181256Z
UID:10001167-1728900000-1728907200@www.budeseapool.org
SUMMARY:Open Hub
DESCRIPTION:The Hub is open for all members of the community to use to warm up after a dip in the Pool. It is not for changing\, which must happen outside. Donations to support Friends of Bude Sea Pool and for refreshments.
URL:https://www.budeseapool.org/event/open-hub-11/2024-10-14/
LOCATION:Bude Sea Pool Hub\, Bude\, Cornwall\, EX23 8HN\, United Kingdom
CATEGORIES:Hub in Use
END:VEVENT
BEGIN:VEVENT
DTSTART;TZID=Europe/London:20241013T100000
DTEND;TZID=Europe/London:20241013T120000
DTSTAMP:20260423T171558
CREATED:20240212T181202Z
LAST-MODIFIED:20240212T181256Z
UID:10001166-1728813600-1728820800@www.budeseapool.org
SUMMARY:Open Hub
DESCRIPTION:The Hub is open for all members of the community to use to warm up after a dip in the Pool. It is not for changing\, which must happen outside. Donations to support Friends of Bude Sea Pool and for refreshments.
URL:https://www.budeseapool.org/event/open-hub-11/2024-10-13/
LOCATION:Bude Sea Pool Hub\, Bude\, Cornwall\, EX23 8HN\, United Kingdom
CATEGORIES:Hub in Use
END:VEVENT
BEGIN:VEVENT
DTSTART;TZID=Europe/London:20241012T100000
DTEND;TZID=Europe/London:20241012T120000
DTSTAMP:20260423T171558
CREATED:20240212T181202Z
LAST-MODIFIED:20240212T181256Z
UID:10001165-1728727200-1728734400@www.budeseapool.org
SUMMARY:Open Hub
DESCRIPTION:The Hub is open for all members of the community to use to warm up after a dip in the Pool. It is not for changing\, which must happen outside. Donations to support Friends of Bude Sea Pool and for refreshments.
URL:https://www.budeseapool.org/event/open-hub-11/2024-10-12/
LOCATION:Bude Sea Pool Hub\, Bude\, Cornwall\, EX23 8HN\, United Kingdom
CATEGORIES:Hub in Use
END:VEVENT
BEGIN:VEVENT
DTSTART;TZID=Europe/London:20241011T100000
DTEND;TZID=Europe/London:20241011T120000
DTSTAMP:20260423T171558
CREATED:20240212T181202Z
LAST-MODIFIED:20240212T181256Z
UID:10001164-1728640800-1728648000@www.budeseapool.org
SUMMARY:Open Hub
DESCRIPTION:The Hub is open for all members of the community to use to warm up after a dip in the Pool. It is not for changing\, which must happen outside. Donations to support Friends of Bude Sea Pool and for refreshments.
URL:https://www.budeseapool.org/event/open-hub-11/2024-10-11/
LOCATION:Bude Sea Pool Hub\, Bude\, Cornwall\, EX23 8HN\, United Kingdom
CATEGORIES:Hub in Use
END:VEVENT
BEGIN:VEVENT
DTSTART;TZID=Europe/London:20241010T100000
DTEND;TZID=Europe/London:20241010T120000
DTSTAMP:20260423T171558
CREATED:20240212T181202Z
LAST-MODIFIED:20240212T181256Z
UID:10001163-1728554400-1728561600@www.budeseapool.org
SUMMARY:Open Hub
DESCRIPTION:The Hub is open for all members of the community to use to warm up after a dip in the Pool. It is not for changing\, which must happen outside. Donations to support Friends of Bude Sea Pool and for refreshments.
URL:https://www.budeseapool.org/event/open-hub-11/2024-10-10/
LOCATION:Bude Sea Pool Hub\, Bude\, Cornwall\, EX23 8HN\, United Kingdom
CATEGORIES:Hub in Use
END:VEVENT
BEGIN:VEVENT
DTSTART;TZID=Europe/London:20241009T100000
DTEND;TZID=Europe/London:20241009T120000
DTSTAMP:20260423T171558
CREATED:20240212T181202Z
LAST-MODIFIED:20240212T181256Z
UID:10001162-1728468000-1728475200@www.budeseapool.org
SUMMARY:Open Hub
DESCRIPTION:The Hub is open for all members of the community to use to warm up after a dip in the Pool. It is not for changing\, which must happen outside. Donations to support Friends of Bude Sea Pool and for refreshments.
URL:https://www.budeseapool.org/event/open-hub-11/2024-10-09/
LOCATION:Bude Sea Pool Hub\, Bude\, Cornwall\, EX23 8HN\, United Kingdom
CATEGORIES:Hub in Use
END:VEVENT
BEGIN:VEVENT
DTSTART;TZID=Europe/London:20241008T100000
DTEND;TZID=Europe/London:20241008T120000
DTSTAMP:20260423T171558
CREATED:20240212T181202Z
LAST-MODIFIED:20240212T181256Z
UID:10001161-1728381600-1728388800@www.budeseapool.org
SUMMARY:Open Hub
DESCRIPTION:The Hub is open for all members of the community to use to warm up after a dip in the Pool. It is not for changing\, which must happen outside. Donations to support Friends of Bude Sea Pool and for refreshments.
URL:https://www.budeseapool.org/event/open-hub-11/2024-10-08/
LOCATION:Bude Sea Pool Hub\, Bude\, Cornwall\, EX23 8HN\, United Kingdom
CATEGORIES:Hub in Use
END:VEVENT
BEGIN:VEVENT
DTSTART;TZID=Europe/London:20241007T100000
DTEND;TZID=Europe/London:20241007T120000
DTSTAMP:20260423T171558
CREATED:20240212T181202Z
LAST-MODIFIED:20240212T181256Z
UID:10001160-1728295200-1728302400@www.budeseapool.org
SUMMARY:Open Hub
DESCRIPTION:The Hub is open for all members of the community to use to warm up after a dip in the Pool. It is not for changing\, which must happen outside. Donations to support Friends of Bude Sea Pool and for refreshments.
URL:https://www.budeseapool.org/event/open-hub-11/2024-10-07/
LOCATION:Bude Sea Pool Hub\, Bude\, Cornwall\, EX23 8HN\, United Kingdom
CATEGORIES:Hub in Use
END:VEVENT
BEGIN:VEVENT
DTSTART;TZID=Europe/London:20241006T100000
DTEND;TZID=Europe/London:20241006T120000
DTSTAMP:20260423T171558
CREATED:20240212T181202Z
LAST-MODIFIED:20240212T181256Z
UID:10001159-1728208800-1728216000@www.budeseapool.org
SUMMARY:Open Hub
DESCRIPTION:The Hub is open for all members of the community to use to warm up after a dip in the Pool. It is not for changing\, which must happen outside. Donations to support Friends of Bude Sea Pool and for refreshments.
URL:https://www.budeseapool.org/event/open-hub-11/2024-10-06/
LOCATION:Bude Sea Pool Hub\, Bude\, Cornwall\, EX23 8HN\, United Kingdom
CATEGORIES:Hub in Use
END:VEVENT
BEGIN:VEVENT
DTSTART;TZID=Europe/London:20241005T110000
DTEND;TZID=Europe/London:20241005T140000
DTSTAMP:20260423T171558
CREATED:20240919T161530Z
LAST-MODIFIED:20240919T161707Z
UID:10001378-1728126000-1728136800@www.budeseapool.org
SUMMARY:Ranger Relay Rescue
DESCRIPTION:Ranger Relay Rescue is back! This was originally a one-off event for the Bude at War commemoration weekend but it was so much fun we decided to run it again! Get your teams together and enter by sending an email to eventslead@budeseapool.org\n\nRelay race on surf rescue boards provided by BSLSC.\nTeams of 4\n£10 entry per team (donated to Bude Surf Veterans)\nTea and refreshments up in the hub (proceeds to Bude Sea Pool)\n\nIt’s brilliant fun so find your team and challenge your friends!
URL:https://www.budeseapool.org/event/ranger-relay-rescue/
LOCATION:Bude Sea Pool\, Bude Sea Pool\, Bude\, EX23 8HN\, United Kingdom
CATEGORIES:Public Events at the Pool
ATTACH;FMTTYPE=image/jpeg:https://www.budeseapool.org/wp-content/uploads/386560792_712356584250357_8899747171156596695_n.jpg
GEO:50.832701786283;-4.5539932734708
X-APPLE-STRUCTURED-LOCATION;VALUE=URI;X-ADDRESS=Bude Sea Pool Bude Sea Pool Bude EX23 8HN United Kingdom;X-APPLE-RADIUS=500;X-TITLE=Bude Sea Pool:geo:-4.5539932734708,50.832701786283
END:VEVENT
BEGIN:VEVENT
DTSTART;TZID=Europe/London:20241005T100000
DTEND;TZID=Europe/London:20241005T120000
DTSTAMP:20260423T171558
CREATED:20240212T181202Z
LAST-MODIFIED:20240212T181256Z
UID:10001158-1728122400-1728129600@www.budeseapool.org
SUMMARY:Open Hub
DESCRIPTION:The Hub is open for all members of the community to use to warm up after a dip in the Pool. It is not for changing\, which must happen outside. Donations to support Friends of Bude Sea Pool and for refreshments.
URL:https://www.budeseapool.org/event/open-hub-11/2024-10-05/
LOCATION:Bude Sea Pool Hub\, Bude\, Cornwall\, EX23 8HN\, United Kingdom
CATEGORIES:Hub in Use
END:VEVENT
BEGIN:VEVENT
DTSTART;TZID=Europe/London:20241004T100000
DTEND;TZID=Europe/London:20241004T120000
DTSTAMP:20260423T171558
CREATED:20240212T181202Z
LAST-MODIFIED:20240212T181256Z
UID:10001157-1728036000-1728043200@www.budeseapool.org
SUMMARY:Open Hub
DESCRIPTION:The Hub is open for all members of the community to use to warm up after a dip in the Pool. It is not for changing\, which must happen outside. Donations to support Friends of Bude Sea Pool and for refreshments.
URL:https://www.budeseapool.org/event/open-hub-11/2024-10-04/
LOCATION:Bude Sea Pool Hub\, Bude\, Cornwall\, EX23 8HN\, United Kingdom
CATEGORIES:Hub in Use
END:VEVENT
BEGIN:VEVENT
DTSTART;TZID=Europe/London:20241003T100000
DTEND;TZID=Europe/London:20241003T120000
DTSTAMP:20260423T171558
CREATED:20240212T181202Z
LAST-MODIFIED:20240212T181256Z
UID:10001156-1727949600-1727956800@www.budeseapool.org
SUMMARY:Open Hub
DESCRIPTION:The Hub is open for all members of the community to use to warm up after a dip in the Pool. It is not for changing\, which must happen outside. Donations to support Friends of Bude Sea Pool and for refreshments.
URL:https://www.budeseapool.org/event/open-hub-11/2024-10-03/
LOCATION:Bude Sea Pool Hub\, Bude\, Cornwall\, EX23 8HN\, United Kingdom
CATEGORIES:Hub in Use
END:VEVENT
BEGIN:VEVENT
DTSTART;TZID=Europe/London:20241002T100000
DTEND;TZID=Europe/London:20241002T120000
DTSTAMP:20260423T171558
CREATED:20240212T181202Z
LAST-MODIFIED:20240212T181256Z
UID:10001155-1727863200-1727870400@www.budeseapool.org
SUMMARY:Open Hub
DESCRIPTION:The Hub is open for all members of the community to use to warm up after a dip in the Pool. It is not for changing\, which must happen outside. Donations to support Friends of Bude Sea Pool and for refreshments.
URL:https://www.budeseapool.org/event/open-hub-11/2024-10-02/
LOCATION:Bude Sea Pool Hub\, Bude\, Cornwall\, EX23 8HN\, United Kingdom
CATEGORIES:Hub in Use
END:VEVENT
BEGIN:VEVENT
DTSTART;TZID=Europe/London:20241001T100000
DTEND;TZID=Europe/London:20241001T120000
DTSTAMP:20260423T171558
CREATED:20240212T181202Z
LAST-MODIFIED:20240212T181256Z
UID:10001154-1727776800-1727784000@www.budeseapool.org
SUMMARY:Open Hub
DESCRIPTION:The Hub is open for all members of the community to use to warm up after a dip in the Pool. It is not for changing\, which must happen outside. Donations to support Friends of Bude Sea Pool and for refreshments.
URL:https://www.budeseapool.org/event/open-hub-11/2024-10-01/
LOCATION:Bude Sea Pool Hub\, Bude\, Cornwall\, EX23 8HN\, United Kingdom
CATEGORIES:Hub in Use
END:VEVENT
BEGIN:VEVENT
DTSTART;TZID=Europe/London:20240930T100000
DTEND;TZID=Europe/London:20240930T120000
DTSTAMP:20260423T171558
CREATED:20240212T181202Z
LAST-MODIFIED:20240212T181256Z
UID:10001153-1727690400-1727697600@www.budeseapool.org
SUMMARY:Open Hub
DESCRIPTION:The Hub is open for all members of the community to use to warm up after a dip in the Pool. It is not for changing\, which must happen outside. Donations to support Friends of Bude Sea Pool and for refreshments.
URL:https://www.budeseapool.org/event/open-hub-11/2024-09-30/
LOCATION:Bude Sea Pool Hub\, Bude\, Cornwall\, EX23 8HN\, United Kingdom
CATEGORIES:Hub in Use
END:VEVENT
BEGIN:VEVENT
DTSTART;TZID=Europe/London:20240929T080000
DTEND;TZID=Europe/London:20240929T093000
DTSTAMP:20260423T171558
CREATED:20240529T172836Z
LAST-MODIFIED:20240529T173553Z
UID:10001376-1727596800-1727602200@www.budeseapool.org
SUMMARY:Open Hub
DESCRIPTION:The Hub is open for all members of the community to use to warm up after a dip in the Pool. It is not for changing\, which must happen outside. Donations to support Friends of Bude Sea Pool and for refreshments.
URL:https://www.budeseapool.org/event/open-hub-10-6/2024-09-29/
LOCATION:Bude Sea Pool Hub\, Bude\, Cornwall\, EX23 8HN\, United Kingdom
CATEGORIES:Hub in Use
END:VEVENT
BEGIN:VEVENT
DTSTART;TZID=Europe/London:20240928T080000
DTEND;TZID=Europe/London:20240928T093000
DTSTAMP:20260423T171558
CREATED:20240529T172836Z
LAST-MODIFIED:20240529T173553Z
UID:10001375-1727510400-1727515800@www.budeseapool.org
SUMMARY:Open Hub
DESCRIPTION:The Hub is open for all members of the community to use to warm up after a dip in the Pool. It is not for changing\, which must happen outside. Donations to support Friends of Bude Sea Pool and for refreshments.
URL:https://www.budeseapool.org/event/open-hub-10-6/2024-09-28/
LOCATION:Bude Sea Pool Hub\, Bude\, Cornwall\, EX23 8HN\, United Kingdom
CATEGORIES:Hub in Use
END:VEVENT
BEGIN:VEVENT
DTSTART;TZID=Europe/London:20240928T070000
DTEND;TZID=Europe/London:20240929T180000
DTSTAMP:20260423T171558
CREATED:20240205T113959Z
LAST-MODIFIED:20240312T192708Z
UID:10000614-1727506800-1727632800@www.budeseapool.org
SUMMARY:10th Anniversary Channel Challenge
DESCRIPTION:Reserve your team’s place for the Channel Challenge swimming event September 2024 \n  \nCan you believe that 2024 will be the 10th anniversary of our Channel Challenge swim event in Bude Sea Pool? \n  \nThe swim will be held on Saturday September 28th 2024\, from 7am until 6pm (or until the last swimmer has finished). As it’s the 10th anniversary we are looking to hold additional celebrations and fun events of all things ‘swimmy’ on the Sunday 29th too\, with a French themed party\, refreshments and disco at Crooklets cafe on Saturday night. On Sunday we will also see if collectively we can put in the miles in the pool to swim back to England! \n  \nPlease note this is a fun\, fund-raising event for the pool for both elite and recreational swimmers. The English channel is 22 miles wide and so 20 lengths of Bude Sea Pool equates to one mile. Teams can be a mixture of those individuals wanting to do several miles\, to those wanting to challenge themselves with a half to one mile as well. \n  \nWe have made a few changes to the event this year. For example booking will be direct with FoBSP rather than using Eventbrite. Also we will encourage fast swimmers to use the usual lane rope which we put in the pool for the event\, so slower swimmers can use the rest of the pool to complete their challenge. Drinks and refreshments will be free for all swimmers\, and we are looking at offering commemorative t-shirts in addition to tickets for the evening party. \n  \nThis swim challenge is very popular with places available for 15 teams (of up to around 20 members as a guide) so please reserve your team’s place by Monday 1st April by email (see below). Team places will be allocated on a first come first serve basis\, with a reserve list drawn up after that. \nPlease email eventslead@budeseapool.org heading up your email 2024 Channel Challenge\, with your name\, telephone number and email. Please also include where your team will be travelling from as this will be useful information for planning. You will receive a confirmation email within a few days\, indicating whether your team has a place or whether you are on the reserve list. \n  \nWe will then be in contact with you at the beginning of May with further details of the weekend\, asking for further information about your team members\, and for payment of the team entry fee of £140. \n  \nLooking forward to seeing you there. It’s going to be a fab weekend!
URL:https://www.budeseapool.org/event/10th-anniversary-channel-challenge/
LOCATION:Bude Sea Pool\, Bude Sea Pool\, Bude\, EX23 8HN\, United Kingdom
CATEGORIES:Pool in Use
GEO:50.832701786283;-4.5539932734708
X-APPLE-STRUCTURED-LOCATION;VALUE=URI;X-ADDRESS=Bude Sea Pool Bude Sea Pool Bude EX23 8HN United Kingdom;X-APPLE-RADIUS=500;X-TITLE=Bude Sea Pool:geo:-4.5539932734708,50.832701786283
END:VEVENT
END:VCALENDAR