BEGIN:VCALENDAR
VERSION:2.0
PRODID:-//FoBSP - Friends of Bude Sea Pool - ECPv6.0.4//NONSGML v1.0//EN
CALSCALE:GREGORIAN
METHOD:PUBLISH
X-ORIGINAL-URL:https://www.budeseapool.org
X-WR-CALDESC:Events for FoBSP - Friends of Bude Sea Pool
REFRESH-INTERVAL;VALUE=DURATION:PT1H
X-Robots-Tag:noindex
X-PUBLISHED-TTL:PT1H
BEGIN:VTIMEZONE
TZID:Europe/London
BEGIN:DAYLIGHT
TZOFFSETFROM:+0000
TZOFFSETTO:+0100
TZNAME:BST
DTSTART:20240331T010000
END:DAYLIGHT
BEGIN:STANDARD
TZOFFSETFROM:+0100
TZOFFSETTO:+0000
TZNAME:GMT
DTSTART:20241027T010000
END:STANDARD
END:VTIMEZONE
BEGIN:VEVENT
DTSTART;TZID=Europe/London:20240229T100000
DTEND;TZID=Europe/London:20240229T120000
DTSTAMP:20260424T195505
CREATED:20240214T141134Z
LAST-MODIFIED:20240214T141134Z
UID:10001247-1709200800-1709208000@www.budeseapool.org
SUMMARY:Volunteers Coffee Morning
DESCRIPTION:I am pleased to tell you that the next Volunteers Coffee Morning will take place on February 29th @10am until 12noon at The Weir\, Whalesborough. \nWe would love to see you there. If you can come\, please let Julie know so we know how many we will be in numbers as we have to cap numbers at 30. This helps both sides enormously.
URL:https://www.budeseapool.org/event/volunteers-coffee-morning-2/
LOCATION:The Weir\, Whalesborough\, Bude\, Cornwall\, EX23 0JD\, United Kingdom
CATEGORIES:Volunteers Only
END:VEVENT
END:VCALENDAR